BEGIN:VCALENDAR
VERSION:2.0
PRODID:-//Charli Wall - ECPv6.15.17//NONSGML v1.0//EN
CALSCALE:GREGORIAN
METHOD:PUBLISH
X-WR-CALNAME:Charli Wall
X-ORIGINAL-URL:https://iamcharliwall.com
X-WR-CALDESC:Events for Charli Wall
REFRESH-INTERVAL;VALUE=DURATION:PT1H
X-Robots-Tag:noindex
X-PUBLISHED-TTL:PT1H
BEGIN:VTIMEZONE
TZID:Europe/London
BEGIN:DAYLIGHT
TZOFFSETFROM:+0000
TZOFFSETTO:+0100
TZNAME:BST
DTSTART:20220327T010000
END:DAYLIGHT
BEGIN:STANDARD
TZOFFSETFROM:+0100
TZOFFSETTO:+0000
TZNAME:GMT
DTSTART:20221030T010000
END:STANDARD
BEGIN:DAYLIGHT
TZOFFSETFROM:+0000
TZOFFSETTO:+0100
TZNAME:BST
DTSTART:20230326T010000
END:DAYLIGHT
BEGIN:STANDARD
TZOFFSETFROM:+0100
TZOFFSETTO:+0000
TZNAME:GMT
DTSTART:20231029T010000
END:STANDARD
BEGIN:DAYLIGHT
TZOFFSETFROM:+0000
TZOFFSETTO:+0100
TZNAME:BST
DTSTART:20240331T010000
END:DAYLIGHT
BEGIN:STANDARD
TZOFFSETFROM:+0100
TZOFFSETTO:+0000
TZNAME:GMT
DTSTART:20241027T010000
END:STANDARD
BEGIN:DAYLIGHT
TZOFFSETFROM:+0000
TZOFFSETTO:+0100
TZNAME:BST
DTSTART:20250330T010000
END:DAYLIGHT
BEGIN:STANDARD
TZOFFSETFROM:+0100
TZOFFSETTO:+0000
TZNAME:GMT
DTSTART:20251026T010000
END:STANDARD
END:VTIMEZONE
BEGIN:VEVENT
DTSTART;TZID=Europe/London:20240816T110000
DTEND;TZID=Europe/London:20240816T120000
DTSTAMP:20260420T002222
CREATED:20240804T053134Z
LAST-MODIFIED:20240804T053134Z
UID:5765-1723806000-1723809600@iamcharliwall.com
SUMMARY:August Daytime Group Coaching Call
DESCRIPTION:Join us for the August Daytime Group Coaching Call on August 16th\, 2024\, at 11:00 am UK time. \nClick the Zoom link to join: https://us02web.zoom.us/j/81009637644.
URL:https://iamcharliwall.com/event/august-daytime-group-coaching-call/
CATEGORIES:Group Calls
ATTACH;FMTTYPE=image/jpeg:https://iamcharliwall.com/wp-content/uploads/2024/01/Wild-awakening-circle-banner-scaled.jpg
END:VEVENT
BEGIN:VEVENT
DTSTART;TZID=Europe/London:20240807T120000
DTEND;TZID=Europe/London:20240807T130000
DTSTAMP:20260420T002222
CREATED:20240804T052739Z
LAST-MODIFIED:20240827T092732Z
UID:5763-1723032000-1723035600@iamcharliwall.com
SUMMARY:August - Ask Me Anything
DESCRIPTION:Join our monthly “Ask Me Anything” on August 7th at 12 pm UK time! \nSubmit your questions beforehand and catch the live stream in our Facebook community.
URL:https://iamcharliwall.com/event/august-ask-me-anything-2/
LOCATION:FB Circle Group
CATEGORIES:Ask me anything
ATTACH;FMTTYPE=image/jpeg:https://iamcharliwall.com/wp-content/uploads/2022/08/AMA.jpg
END:VEVENT
BEGIN:VEVENT
DTSTART;TZID=Europe/London:20240730T193000
DTEND;TZID=Europe/London:20240730T203000
DTSTAMP:20260420T002222
CREATED:20240703T154643Z
LAST-MODIFIED:20240703T154643Z
UID:5704-1722367800-1722371400@iamcharliwall.com
SUMMARY:Feminine Painbody Integration Call
DESCRIPTION:https://us02web.zoom.us/j/89064551559
URL:https://iamcharliwall.com/event/feminine-painbody-integration-call/
LOCATION:Zoom
CATEGORIES:Monthly theme integration
ATTACH;FMTTYPE=image/jpeg:https://iamcharliwall.com/wp-content/uploads/2024/01/Wild-awakening-circle-banner-scaled.jpg
END:VEVENT
BEGIN:VEVENT
DTSTART;TZID=Europe/London:20240726T170000
DTEND;TZID=Europe/London:20240726T180000
DTSTAMP:20260420T002222
CREATED:20240718T083203Z
LAST-MODIFIED:20240718T083203Z
UID:5729-1722013200-1722016800@iamcharliwall.com
SUMMARY:July Daytime Group Coaching Call
DESCRIPTION:
URL:https://iamcharliwall.com/event/july-daytime-group-coaching-call-2/
LOCATION:Zoom
CATEGORIES:Group Calls
ATTACH;FMTTYPE=image/jpeg:https://iamcharliwall.com/wp-content/uploads/2024/01/Wild-awakening-circle-banner-scaled.jpg
END:VEVENT
BEGIN:VEVENT
DTSTART;TZID=Europe/London:20240723T193000
DTEND;TZID=Europe/London:20240723T203000
DTSTAMP:20260420T002222
CREATED:20240703T154158Z
LAST-MODIFIED:20240703T160648Z
UID:5702-1721763000-1721766600@iamcharliwall.com
SUMMARY:July Transmission: Understanding Feminine Painbody
DESCRIPTION:https://us02web.zoom.us/j/88538432654
URL:https://iamcharliwall.com/event/july-transmission-understanding-feminine-painbody/
LOCATION:Zoom
CATEGORIES:Monthly Theme
ATTACH;FMTTYPE=image/png:https://iamcharliwall.com/wp-content/uploads/2024/07/Understanding-Feminine-Painbody-banner.png
END:VEVENT
BEGIN:VEVENT
DTSTART;TZID=Europe/London:20240712T101500
DTEND;TZID=Europe/London:20240712T111500
DTSTAMP:20260420T002222
CREATED:20240703T153451Z
LAST-MODIFIED:20240703T153451Z
UID:5698-1720779300-1720782900@iamcharliwall.com
SUMMARY:ASK ME ANYTHING
DESCRIPTION:JULY ASK ME ANYTHING \nHi ladies\, I will come live into the group for this one\, meaning there is no Zoom link.\nPlease send me all your questions prior to this date x
URL:https://iamcharliwall.com/event/ask-me-anything-57/
LOCATION:FB Circle Group
CATEGORIES:Ask me anything
ATTACH;FMTTYPE=image/jpeg:https://iamcharliwall.com/wp-content/uploads/2022/08/AMA.jpg
END:VEVENT
BEGIN:VEVENT
DTSTART;TZID=Europe/London:20240625T193000
DTEND;TZID=Europe/London:20240625T203000
DTSTAMP:20260420T002222
CREATED:20240604T033125Z
LAST-MODIFIED:20240618T044051Z
UID:5683-1719343800-1719347400@iamcharliwall.com
SUMMARY:June Transmission: The Feminine Art of Receiving
DESCRIPTION:
URL:https://iamcharliwall.com/event/june-transmission-the-feminine-art-of-receiving/
LOCATION:Zoom
CATEGORIES:Monthly Theme
ATTACH;FMTTYPE=image/png:https://iamcharliwall.com/wp-content/uploads/2024/06/The-feminine-art-of-receiving-banner.png
END:VEVENT
BEGIN:VEVENT
DTSTART;TZID=Europe/London:20240622T113000
DTEND;TZID=Europe/London:20240622T123000
DTSTAMP:20260420T002222
CREATED:20240618T044027Z
LAST-MODIFIED:20240618T044027Z
UID:5693-1719055800-1719059400@iamcharliwall.com
SUMMARY:June Daytime Group Coaching Call
DESCRIPTION:
URL:https://iamcharliwall.com/event/june-daytime-group-coaching-call-2/
LOCATION:Zoom
CATEGORIES:Group Calls
ATTACH;FMTTYPE=image/jpeg:https://iamcharliwall.com/wp-content/uploads/2024/01/Wild-awakening-circle-banner-scaled.jpg
END:VEVENT
BEGIN:VEVENT
DTSTART;VALUE=DATE:20240610
DTEND;VALUE=DATE:20240616
DTSTAMP:20260420T002222
CREATED:20240604T034226Z
LAST-MODIFIED:20240604T034226Z
UID:5689-1717977600-1718495999@iamcharliwall.com
SUMMARY:Rewilding Woman Retreat
DESCRIPTION:
URL:https://iamcharliwall.com/event/rewilding-woman-retreat/
CATEGORIES:retreat
END:VEVENT
BEGIN:VEVENT
DTSTART;TZID=Europe/London:20240607T113000
DTEND;TZID=Europe/London:20240607T123000
DTSTAMP:20260420T002222
CREATED:20240604T032501Z
LAST-MODIFIED:20240604T032501Z
UID:5681-1717759800-1717763400@iamcharliwall.com
SUMMARY:June - Ask Me Anything
DESCRIPTION:Hello ladies\, this months AMA will be Friday 7th June at 11.30am.\nPlease send me all your questions prior to then.\nThank you x
URL:https://iamcharliwall.com/event/june-ask-me-anything/
LOCATION:FB Circle Group
CATEGORIES:Ask me anything
ATTACH;FMTTYPE=image/jpeg:https://iamcharliwall.com/wp-content/uploads/2022/08/AMA.jpg
END:VEVENT
BEGIN:VEVENT
DTSTART;TZID=Europe/London:20240530T190000
DTEND;TZID=Europe/London:20240530T200000
DTSTAMP:20260420T002222
CREATED:20240514T084119Z
LAST-MODIFIED:20240514T084119Z
UID:5648-1717095600-1717099200@iamcharliwall.com
SUMMARY:May Integration Call
DESCRIPTION:Charli is inviting you to a scheduled Zoom meeting.\nTopic: May Integration CallTime: May 30\, 2024\, 07:00 PM London\nJoin Zoom Meetinghttps://us02web.zoom.us/j/83919203553\nMeeting ID: 839 1920 3553
URL:https://iamcharliwall.com/event/may-integration-call/
LOCATION:Zoom
CATEGORIES:Monthly theme integration
ATTACH;FMTTYPE=image/jpeg:https://iamcharliwall.com/wp-content/uploads/2024/01/Wild-awakening-circle-banner-scaled.jpg
END:VEVENT
BEGIN:VEVENT
DTSTART;TZID=Europe/London:20240523T193000
DTEND;TZID=Europe/London:20240523T203000
DTSTAMP:20260420T002222
CREATED:20240514T030420Z
LAST-MODIFIED:20240514T105204Z
UID:5646-1716492600-1716496200@iamcharliwall.com
SUMMARY:May Transmission: The Essence Of Enchantment: Magic As A Woman’s Nature
DESCRIPTION:Charli is inviting you to a scheduled Zoom meeting.\nTopic: May Transmission:Time: May 23\, 2024\, 07:30 PM London\nJoin Zoom Meetinghttps://us02web.zoom.us/j/84577991079\nMeeting ID: 845 7799 1079
URL:https://iamcharliwall.com/event/may-transmission/
LOCATION:Zoom
CATEGORIES:Monthly Theme
ATTACH;FMTTYPE=image/png:https://iamcharliwall.com/wp-content/uploads/2024/05/May-Transmission-The-Essence-Of-Enchantment-Magic-As-A-Womans-Nature.png
END:VEVENT
BEGIN:VEVENT
DTSTART;TZID=Europe/London:20240517T100000
DTEND;TZID=Europe/London:20240517T230000
DTSTAMP:20260420T002222
CREATED:20240514T030100Z
LAST-MODIFIED:20240514T030100Z
UID:5644-1715940000-1715986800@iamcharliwall.com
SUMMARY:Ask Me Anything
DESCRIPTION:May Ask Me Anything will be live in this group. Please send all your questions to me before this Friday at 10am.
URL:https://iamcharliwall.com/event/ask-me-anything-56/
LOCATION:FB Circle Group
CATEGORIES:Ask me anything
ATTACH;FMTTYPE=image/jpeg:https://iamcharliwall.com/wp-content/uploads/2022/08/AMA.jpg
END:VEVENT
BEGIN:VEVENT
DTSTART;TZID=Europe/London:20240430T190000
DTEND;TZID=Europe/London:20240430T200000
DTSTAMP:20260420T002222
CREATED:20240408T014433Z
LAST-MODIFIED:20240408T014555Z
UID:5526-1714503600-1714507200@iamcharliwall.com
SUMMARY:April Integration Call
DESCRIPTION:https://us02web.zoom.us/j/88539860078
URL:https://iamcharliwall.com/event/april-integration-call/
LOCATION:Zoom
CATEGORIES:Monthly theme integration
ATTACH;FMTTYPE=image/jpeg:https://iamcharliwall.com/wp-content/uploads/2024/01/Wild-awakening-circle-banner-scaled.jpg
END:VEVENT
BEGIN:VEVENT
DTSTART;TZID=Europe/London:20240423T190000
DTEND;TZID=Europe/London:20240423T200000
DTSTAMP:20260420T002222
CREATED:20240408T014052Z
LAST-MODIFIED:20240408T014052Z
UID:5524-1713898800-1713902400@iamcharliwall.com
SUMMARY:April Transmission: The Over-giving of the Feminine
DESCRIPTION:https://us02web.zoom.us/j/87333542729
URL:https://iamcharliwall.com/event/april-transmission-the-over-giving-of-the-feminine/
LOCATION:Zoom
CATEGORIES:Monthly Theme
ATTACH;FMTTYPE=image/jpeg:https://iamcharliwall.com/wp-content/uploads/2024/01/Wild-awakening-circle-banner-scaled.jpg
END:VEVENT
BEGIN:VEVENT
DTSTART;TZID=Europe/London:20240418T113000
DTEND;TZID=Europe/London:20240418T123000
DTSTAMP:20260420T002222
CREATED:20240408T013708Z
LAST-MODIFIED:20240408T013708Z
UID:5522-1713439800-1713443400@iamcharliwall.com
SUMMARY:April Daytime Group Coaching Call
DESCRIPTION:https://us02web.zoom.us/j/87054796058
URL:https://iamcharliwall.com/event/april-daytime-group-coaching-call-2/
LOCATION:Zoom
CATEGORIES:Group Calls
ATTACH;FMTTYPE=image/jpeg:https://iamcharliwall.com/wp-content/uploads/2024/01/Wild-awakening-circle-banner-scaled.jpg
END:VEVENT
BEGIN:VEVENT
DTSTART;TZID=Europe/London:20240409T130000
DTEND;TZID=Europe/London:20240409T140000
DTSTAMP:20260420T002222
CREATED:20240408T013215Z
LAST-MODIFIED:20240408T013802Z
UID:5520-1712667600-1712671200@iamcharliwall.com
SUMMARY:Ask Me Anything
DESCRIPTION:Hello  This month’s AMA will be this Tuesday at 1pm.\nAll questions to be sent to me prior to 1pm\nThis will be live-streamed into this group.
URL:https://iamcharliwall.com/event/ask-me-anything-55/
LOCATION:FB Circle Group
CATEGORIES:Ask me anything
ATTACH;FMTTYPE=image/jpeg:https://iamcharliwall.com/wp-content/uploads/2022/08/AMA.jpg
END:VEVENT
BEGIN:VEVENT
DTSTART;TZID=Europe/London:20240326T190000
DTEND;TZID=Europe/London:20240326T200000
DTSTAMP:20260420T002222
CREATED:20240305T034512Z
LAST-MODIFIED:20240305T034512Z
UID:5491-1711479600-1711483200@iamcharliwall.com
SUMMARY:March Integration Call
DESCRIPTION:https://us02web.zoom.us/j/82531653751
URL:https://iamcharliwall.com/event/march-integration-call/
LOCATION:Zoom
CATEGORIES:Monthly theme integration
ATTACH;FMTTYPE=image/jpeg:https://iamcharliwall.com/wp-content/uploads/2024/01/Wild-awakening-circle-banner-scaled.jpg
END:VEVENT
BEGIN:VEVENT
DTSTART;TZID=Europe/London:20240319T190000
DTEND;TZID=Europe/London:20240319T200000
DTSTAMP:20260420T002222
CREATED:20240305T034151Z
LAST-MODIFIED:20240313T031942Z
UID:5489-1710874800-1710878400@iamcharliwall.com
SUMMARY:March transmission: Understanding Discernment - devotion to self
DESCRIPTION:https://us02web.zoom.us/j/89032895705
URL:https://iamcharliwall.com/event/march-transmission-subject-tbc/
LOCATION:Zoom
CATEGORIES:Monthly Theme
ATTACH;FMTTYPE=image/png:https://iamcharliwall.com/wp-content/uploads/2024/03/March-Monthly-Transmission-Understanding-Discernment-devotion-to-selfbanner-.png
END:VEVENT
BEGIN:VEVENT
DTSTART;TZID=Europe/London:20240315T094500
DTEND;TZID=Europe/London:20240315T104500
DTSTAMP:20260420T002222
CREATED:20240305T033833Z
LAST-MODIFIED:20240312T082301Z
UID:5487-1710495900-1710499500@iamcharliwall.com
SUMMARY:March Daytime group coaching call
DESCRIPTION:https://us02web.zoom.us/j/87324217148
URL:https://iamcharliwall.com/event/march-daytime-group-coaching-call-2/
LOCATION:Zoom
CATEGORIES:Group Calls
ATTACH;FMTTYPE=image/jpeg:https://iamcharliwall.com/wp-content/uploads/2024/01/Wild-awakening-circle-banner-scaled.jpg
END:VEVENT
BEGIN:VEVENT
DTSTART;TZID=Europe/London:20240307T113000
DTEND;TZID=Europe/London:20240307T123000
DTSTAMP:20260420T002222
CREATED:20240305T033525Z
LAST-MODIFIED:20240305T034650Z
UID:5485-1709811000-1709814600@iamcharliwall.com
SUMMARY:Ask Me Anything
DESCRIPTION:Ask Me Anything at all.. questions to be submitted to me before 10am on Thursday. This will be livestreamed into this group x
URL:https://iamcharliwall.com/event/ask-me-anything-54/
LOCATION:FB Circle Group
CATEGORIES:Ask me anything
ATTACH;FMTTYPE=image/jpeg:https://iamcharliwall.com/wp-content/uploads/2022/08/AMA.jpg
END:VEVENT
BEGIN:VEVENT
DTSTART;TZID=Europe/London:20240226T190000
DTEND;TZID=Europe/London:20240226T200000
DTSTAMP:20260420T002222
CREATED:20240205T045021Z
LAST-MODIFIED:20240205T045021Z
UID:5478-1708974000-1708977600@iamcharliwall.com
SUMMARY:Monthly theme integration
DESCRIPTION:
URL:https://iamcharliwall.com/event/monthly-theme-integration/
LOCATION:Zoom
CATEGORIES:Monthly theme integration
ATTACH;FMTTYPE=image/jpeg:https://iamcharliwall.com/wp-content/uploads/2024/01/Wild-awakening-circle-banner-scaled.jpg
END:VEVENT
BEGIN:VEVENT
DTSTART;TZID=Europe/London:20240223T100000
DTEND;TZID=Europe/London:20240223T230000
DTSTAMP:20260420T002222
CREATED:20240205T044223Z
LAST-MODIFIED:20240216T042056Z
UID:5474-1708682400-1708729200@iamcharliwall.com
SUMMARY:February Daytime Group Coaching Call
DESCRIPTION:https://us02web.zoom.us/j/85824950980
URL:https://iamcharliwall.com/event/february-daytime-group-coaching-call/
LOCATION:Zoom
CATEGORIES:Group Calls
ATTACH;FMTTYPE=image/jpeg:https://iamcharliwall.com/wp-content/uploads/2024/01/Wild-awakening-circle-banner-scaled.jpg
END:VEVENT
BEGIN:VEVENT
DTSTART;TZID=Europe/London:20240220T190000
DTEND;TZID=Europe/London:20240220T200000
DTSTAMP:20260420T002222
CREATED:20240205T044535Z
LAST-MODIFIED:20240205T045255Z
UID:5476-1708455600-1708459200@iamcharliwall.com
SUMMARY:February Transmission - The Feminine Frequency goes first
DESCRIPTION:
URL:https://iamcharliwall.com/event/february-transmission-the-feminine-frequency-goes-first/
LOCATION:Zoom
CATEGORIES:Monthly Theme
ATTACH;FMTTYPE=image/jpeg:https://iamcharliwall.com/wp-content/uploads/2024/02/Feb-transmission.jpg
END:VEVENT
BEGIN:VEVENT
DTSTART;TZID=Europe/London:20240209T103000
DTEND;TZID=Europe/London:20240209T113000
DTSTAMP:20260420T002222
CREATED:20240205T043638Z
LAST-MODIFIED:20240205T043702Z
UID:5472-1707474600-1707478200@iamcharliwall.com
SUMMARY:Ask Me Anything
DESCRIPTION:Hi ladies\, please send all your questions to me before 10.30am on Friday the 9th x
URL:https://iamcharliwall.com/event/ask-me-anything-53/
LOCATION:FB Circle Group
CATEGORIES:Ask me anything
ATTACH;FMTTYPE=image/jpeg:https://iamcharliwall.com/wp-content/uploads/2022/08/AMA.jpg
END:VEVENT
BEGIN:VEVENT
DTSTART;TZID=Europe/London:20240129T190000
DTEND;TZID=Europe/London:20240129T203000
DTSTAMP:20260420T002222
CREATED:20240110T085141Z
LAST-MODIFIED:20240110T085141Z
UID:5460-1706554800-1706560200@iamcharliwall.com
SUMMARY:Integration and questions around the theme of receiving
DESCRIPTION:
URL:https://iamcharliwall.com/event/integration-and-questions-around-the-theme-of-receiving/
LOCATION:Zoom
CATEGORIES:Monthly Theme
ATTACH;FMTTYPE=image/jpeg:https://iamcharliwall.com/wp-content/uploads/2024/01/Wild-awakening-circle-banner-scaled.jpg
END:VEVENT
BEGIN:VEVENT
DTSTART;TZID=Europe/London:20240122T190000
DTEND;TZID=Europe/London:20240122T200000
DTSTAMP:20260420T002222
CREATED:20240110T084631Z
LAST-MODIFIED:20240110T084742Z
UID:5457-1705950000-1705953600@iamcharliwall.com
SUMMARY:The Feminine Art of Receiving
DESCRIPTION:
URL:https://iamcharliwall.com/event/the-feminine-art-of-receiving/
LOCATION:Zoom
CATEGORIES:Monthly Theme
ATTACH;FMTTYPE=image/jpeg:https://iamcharliwall.com/wp-content/uploads/2024/01/Wild-awakening-circle-banner-scaled.jpg
END:VEVENT
BEGIN:VEVENT
DTSTART;TZID=Europe/London:20240119T100000
DTEND;TZID=Europe/London:20240119T110000
DTSTAMP:20260420T002222
CREATED:20240110T084450Z
LAST-MODIFIED:20240110T084450Z
UID:5454-1705658400-1705662000@iamcharliwall.com
SUMMARY:January Day time Group Coaching Call
DESCRIPTION:
URL:https://iamcharliwall.com/event/january-day-time-group-coaching-call/
LOCATION:Zoom
CATEGORIES:Group Calls
ATTACH;FMTTYPE=image/jpeg:https://iamcharliwall.com/wp-content/uploads/2024/01/Wild-awakening-circle-banner-scaled.jpg
END:VEVENT
BEGIN:VEVENT
DTSTART;TZID=Europe/London:20240108T100000
DTEND;TZID=Europe/London:20240108T110000
DTSTAMP:20260420T002222
CREATED:20240108T035502Z
LAST-MODIFIED:20240108T035502Z
UID:5452-1704708000-1704711600@iamcharliwall.com
SUMMARY:Ask Me Anything
DESCRIPTION:This month’s AMA will be on Monday the 8th of January\, as a livestream into this group at 10am.\nPlease send me all your questions before 10am on Monday.
URL:https://iamcharliwall.com/event/ask-me-anything-52/
LOCATION:FB Circle Group
CATEGORIES:Ask me anything
ATTACH;FMTTYPE=image/jpeg:https://iamcharliwall.com/wp-content/uploads/2022/08/AMA.jpg
END:VEVENT
BEGIN:VEVENT
DTSTART;TZID=Europe/London:20231219T190000
DTEND;TZID=Europe/London:20231219T200000
DTSTAMP:20260420T002222
CREATED:20231205T055039Z
LAST-MODIFIED:20231205T055039Z
UID:5434-1703012400-1703016000@iamcharliwall.com
SUMMARY:Live podcast interview with Rob Cook\, and then Circle ladies only Q+A
DESCRIPTION:https://us02web.zoom.us/j/82959961416
URL:https://iamcharliwall.com/event/live-podcast-interview-with-rob-cook-and-then-circle-ladies-only-qa/
LOCATION:Zoom
CATEGORIES:Interviews
ATTACH;FMTTYPE=image/jpeg:https://iamcharliwall.com/wp-content/uploads/2023/12/Rob-Cook.jpg
END:VEVENT
END:VCALENDAR