BEGIN:VCALENDAR
VERSION:2.0
PRODID:-//Charli Wall - ECPv6.15.17//NONSGML v1.0//EN
CALSCALE:GREGORIAN
METHOD:PUBLISH
X-WR-CALNAME:Charli Wall
X-ORIGINAL-URL:https://iamcharliwall.com
X-WR-CALDESC:Events for Charli Wall
REFRESH-INTERVAL;VALUE=DURATION:PT1H
X-Robots-Tag:noindex
X-PUBLISHED-TTL:PT1H
BEGIN:VTIMEZONE
TZID:Europe/London
BEGIN:DAYLIGHT
TZOFFSETFROM:+0000
TZOFFSETTO:+0100
TZNAME:BST
DTSTART:20190331T010000
END:DAYLIGHT
BEGIN:STANDARD
TZOFFSETFROM:+0100
TZOFFSETTO:+0000
TZNAME:GMT
DTSTART:20191027T010000
END:STANDARD
BEGIN:DAYLIGHT
TZOFFSETFROM:+0000
TZOFFSETTO:+0100
TZNAME:BST
DTSTART:20200329T010000
END:DAYLIGHT
BEGIN:STANDARD
TZOFFSETFROM:+0100
TZOFFSETTO:+0000
TZNAME:GMT
DTSTART:20201025T010000
END:STANDARD
BEGIN:DAYLIGHT
TZOFFSETFROM:+0000
TZOFFSETTO:+0100
TZNAME:BST
DTSTART:20210328T010000
END:DAYLIGHT
BEGIN:STANDARD
TZOFFSETFROM:+0100
TZOFFSETTO:+0000
TZNAME:GMT
DTSTART:20211031T010000
END:STANDARD
END:VTIMEZONE
BEGIN:VEVENT
DTSTART;TZID=Europe/London:20201210T190000
DTEND;TZID=Europe/London:20201210T200000
DTSTAMP:20260421T063045
CREATED:20201130T084141Z
LAST-MODIFIED:20201130T102345Z
UID:3686-1607626800-1607630400@iamcharliwall.com
SUMMARY:Guest interview with Natasha Swerdloff
DESCRIPTION:This month’s guest interview is with Natasha Swerdloff on Thursday the 10th December at 7 pm UK time\, held via Zoom 
URL:https://iamcharliwall.com/event/guest-interview-with-natasha-swerdloff/
END:VEVENT
BEGIN:VEVENT
DTSTART;TZID=Europe/London:20201210T080000
DTEND;TZID=Europe/London:20201210T083000
DTSTAMP:20260421T063045
CREATED:20201130T174030Z
LAST-MODIFIED:20201130T174030Z
UID:3697-1607587200-1607589000@iamcharliwall.com
SUMMARY:Yoga
DESCRIPTION:Yoga live in the FB group
URL:https://iamcharliwall.com/event/yoga-8/
END:VEVENT
BEGIN:VEVENT
DTSTART;TZID=Europe/London:20201208T120000
DTEND;TZID=Europe/London:20201208T123000
DTSTAMP:20260421T063045
CREATED:20201130T173803Z
LAST-MODIFIED:20201130T173804Z
UID:3695-1607428800-1607430600@iamcharliwall.com
SUMMARY:Ask Me Anything
DESCRIPTION:Ask Me Anything to be live on our group Tuesday 8th December at midday
URL:https://iamcharliwall.com/event/ask-me-anything-5/
END:VEVENT
BEGIN:VEVENT
DTSTART;TZID=Europe/London:20201203T080000
DTEND;TZID=Europe/London:20201203T083000
DTSTAMP:20260421T063045
CREATED:20201130T172856Z
LAST-MODIFIED:20201130T173255Z
UID:3691-1606982400-1606984200@iamcharliwall.com
SUMMARY:Yoga
DESCRIPTION:Yoga session live on our FB group 
URL:https://iamcharliwall.com/event/yoga-7/
END:VEVENT
BEGIN:VEVENT
DTSTART;TZID=Europe/London:20201201T113000
DTEND;TZID=Europe/London:20201201T120000
DTSTAMP:20260421T063045
CREATED:20201130T172541Z
LAST-MODIFIED:20201130T172541Z
UID:3689-1606822200-1606824000@iamcharliwall.com
SUMMARY:Ask Me Anything
DESCRIPTION:Ask Me Anything slot\, to be done live on our FB group at 11.30 am
URL:https://iamcharliwall.com/event/ask-me-anything-4/
END:VEVENT
BEGIN:VEVENT
DTSTART;TZID=Europe/London:20201127T103000
DTEND;TZID=Europe/London:20201127T113000
DTSTAMP:20260421T063045
CREATED:20201101T193708Z
LAST-MODIFIED:20201101T194259Z
UID:3673-1606473000-1606476600@iamcharliwall.com
SUMMARY:Nov daytime group coaching
DESCRIPTION:https://us02web.zoom.us/j/84480988127
URL:https://iamcharliwall.com/event/nov-daytime-group-coaching/
CATEGORIES:Group Calls
END:VEVENT
BEGIN:VEVENT
DTSTART;TZID=Europe/London:20201126T130000
DTEND;TZID=Europe/London:20201126T133000
DTSTAMP:20260421T063045
CREATED:20201101T192801Z
LAST-MODIFIED:20201101T192801Z
UID:3667-1606395600-1606397400@iamcharliwall.com
SUMMARY:Yoga
DESCRIPTION:
URL:https://iamcharliwall.com/event/yoga-6/
CATEGORIES:Yoga
END:VEVENT
BEGIN:VEVENT
DTSTART;TZID=Europe/London:20201124T140000
DTEND;TZID=Europe/London:20201124T150000
DTSTAMP:20260421T063045
CREATED:20201101T193003Z
LAST-MODIFIED:20201101T193003Z
UID:3669-1606226400-1606230000@iamcharliwall.com
SUMMARY:Ask me anything
DESCRIPTION:Ask me anything & hotspot coaching live in the group 2pm
URL:https://iamcharliwall.com/event/ask-me-anything-3/
CATEGORIES:Ask me anything
END:VEVENT
BEGIN:VEVENT
DTSTART;TZID=Europe/London:20201124T080000
DTEND;TZID=Europe/London:20201124T083000
DTSTAMP:20260421T063045
CREATED:20201101T193344Z
LAST-MODIFIED:20201101T193344Z
UID:3671-1606204800-1606206600@iamcharliwall.com
SUMMARY:HIIT
DESCRIPTION:
URL:https://iamcharliwall.com/event/hiit-4/
END:VEVENT
BEGIN:VEVENT
DTSTART;TZID=Europe/London:20201114T080000
DTEND;TZID=Europe/London:20201121T170000
DTSTAMP:20260421T063045
CREATED:20201101T192529Z
LAST-MODIFIED:20201101T192529Z
UID:3663-1605340800-1605978000@iamcharliwall.com
SUMMARY:Charli away
DESCRIPTION:
URL:https://iamcharliwall.com/event/charli-away/
END:VEVENT
BEGIN:VEVENT
DTSTART;TZID=Europe/London:20201112T130000
DTEND;TZID=Europe/London:20201112T133000
DTSTAMP:20260421T063045
CREATED:20201101T190529Z
LAST-MODIFIED:20201101T190529Z
UID:3659-1605186000-1605187800@iamcharliwall.com
SUMMARY:Yoga
DESCRIPTION:Yoga live on the group
URL:https://iamcharliwall.com/event/yoga-5/
CATEGORIES:Yoga
END:VEVENT
BEGIN:VEVENT
DTSTART;TZID=Europe/London:20201111T190000
DTEND;TZID=Europe/London:20201111T200000
DTSTAMP:20260421T063045
CREATED:20201030T111456Z
LAST-MODIFIED:20201030T150941Z
UID:3642-1605121200-1605124800@iamcharliwall.com
SUMMARY:Interview with Grace Kelly
DESCRIPTION:Please join me at 7 pm on Wed 11th November as we are joined by my colleague Grace kelly on the topic of insecurity. \nJoin Zoom Meeting\nhttps://us02web.zoom.us/j/9190940062 \nMeeting ID: 919 094 0062 \n 
URL:https://iamcharliwall.com/event/interview-with-grace-kelly/
CATEGORIES:Interviews
ATTACH;FMTTYPE=image/jpeg:https://iamcharliwall.com/wp-content/uploads/2020/10/31403920_10156323168747387_7595957058080342016_n.jpg
END:VEVENT
BEGIN:VEVENT
DTSTART;TZID=Europe/London:20201110T140000
DTEND;TZID=Europe/London:20201110T150000
DTSTAMP:20260421T063045
CREATED:20201101T190405Z
LAST-MODIFIED:20201101T190405Z
UID:3657-1605016800-1605020400@iamcharliwall.com
SUMMARY:Ask Me Anything
DESCRIPTION:Ask me anything and hotspot coaching
URL:https://iamcharliwall.com/event/ask-me-anything-2/
CATEGORIES:Ask me anything
END:VEVENT
BEGIN:VEVENT
DTSTART;TZID=Europe/London:20201110T073000
DTEND;TZID=Europe/London:20201110T080000
DTSTAMP:20260421T063045
CREATED:20201101T190122Z
LAST-MODIFIED:20201101T190154Z
UID:3655-1604993400-1604995200@iamcharliwall.com
SUMMARY:HIIT
DESCRIPTION:HIIT session live on the group Tuesday 10th at 7.30am
URL:https://iamcharliwall.com/event/hiit-3/
CATEGORIES:HIIT
END:VEVENT
BEGIN:VEVENT
DTSTART;TZID=Europe/London:20201105T193000
DTEND;TZID=Europe/London:20201105T203000
DTSTAMP:20260421T063045
CREATED:20201101T191049Z
LAST-MODIFIED:20201101T193149Z
UID:3661-1604604600-1604608200@iamcharliwall.com
SUMMARY:Group coaching evening
DESCRIPTION:Our November evening group coaching will be Thursday 5th November at 7.30pm \n  \nLink here  \n 
URL:https://iamcharliwall.com/event/group-coaching-evening/
CATEGORIES:Group Calls
END:VEVENT
BEGIN:VEVENT
DTSTART;TZID=Europe/London:20201105T130000
DTEND;TZID=Europe/London:20201105T133000
DTSTAMP:20260421T063045
CREATED:20201101T185732Z
LAST-MODIFIED:20201101T185732Z
UID:3652-1604581200-1604583000@iamcharliwall.com
SUMMARY:Yoga
DESCRIPTION:Yoga live on the group
URL:https://iamcharliwall.com/event/yoga-4/
CATEGORIES:Yoga
END:VEVENT
BEGIN:VEVENT
DTSTART;TZID=Europe/London:20201103T120000
DTEND;TZID=Europe/London:20201103T130000
DTSTAMP:20260421T063045
CREATED:20201101T185309Z
LAST-MODIFIED:20201102T172355Z
UID:3648-1604404800-1604408400@iamcharliwall.com
SUMMARY:Ask me Anything live
DESCRIPTION:Ask me anything and hotspot coaching live on our Circle group at midday on Tuesday 3rd November.
URL:https://iamcharliwall.com/event/ask-me-anything-live/
CATEGORIES:Ask me anything
END:VEVENT
BEGIN:VEVENT
DTSTART;TZID=Europe/London:20201103T080000
DTEND;TZID=Europe/London:20201103T083000
DTSTAMP:20260421T063045
CREATED:20201101T185451Z
LAST-MODIFIED:20201101T185451Z
UID:3650-1604390400-1604392200@iamcharliwall.com
SUMMARY:HIIT
DESCRIPTION:HIIT session live on the FB group
URL:https://iamcharliwall.com/event/hiit/
CATEGORIES:HIIT
END:VEVENT
BEGIN:VEVENT
DTSTART;TZID=Europe/London:20201029T130000
DTEND;TZID=Europe/London:20201029T133000
DTSTAMP:20260421T063045
CREATED:20201007T053210Z
LAST-MODIFIED:20201007T053210Z
UID:3636-1603976400-1603978200@iamcharliwall.com
SUMMARY:Yoga
DESCRIPTION:Live at 1pm\, your yoga session in the FB group
URL:https://iamcharliwall.com/event/yoga-3/
CATEGORIES:Yoga
END:VEVENT
BEGIN:VEVENT
DTSTART;TZID=Europe/London:20201028T190000
DTEND;TZID=Europe/London:20201028T200000
DTSTAMP:20260421T063045
CREATED:20201007T053027Z
LAST-MODIFIED:20201007T053027Z
UID:3634-1603911600-1603915200@iamcharliwall.com
SUMMARY:October evening group Coaching
DESCRIPTION:Please join me for your October evening coaching call \nhttps://us02web.zoom.us/j/84890141178
URL:https://iamcharliwall.com/event/october-evening-group-coaching/
CATEGORIES:Group Calls
ATTACH;FMTTYPE=image/jpeg:https://iamcharliwall.com/wp-content/uploads/2020/10/Possibility-Chats-.jpg
END:VEVENT
BEGIN:VEVENT
DTSTART;TZID=Europe/London:20201027T110000
DTEND;TZID=Europe/London:20201027T113000
DTSTAMP:20260421T063045
CREATED:20201007T052348Z
LAST-MODIFIED:20201007T052348Z
UID:3632-1603796400-1603798200@iamcharliwall.com
SUMMARY:Ask me anything
DESCRIPTION:Join me via Zoom which will be streamed live into our FB group for an ask me anything 30 mins. One person will have the chance to have a 15 minute hot seat coachin \nhttps://us02web.zoom.us/j/9190940062 \nMeeting ID: 919 094 0062
URL:https://iamcharliwall.com/event/ask-me-anything/
CATEGORIES:Ask me anything
END:VEVENT
BEGIN:VEVENT
DTSTART;TZID=Europe/London:20201026T080000
DTEND;TZID=Europe/London:20201026T083000
DTSTAMP:20260421T063045
CREATED:20201007T052125Z
LAST-MODIFIED:20201007T052125Z
UID:3630-1603699200-1603701000@iamcharliwall.com
SUMMARY:HIIT
DESCRIPTION:Join me for our HIIT workout.
URL:https://iamcharliwall.com/event/hiit-2/
CATEGORIES:HIIT
END:VEVENT
BEGIN:VEVENT
DTSTART;TZID=Europe/London:20201017T080000
DTEND;TZID=Europe/London:20201024T170000
DTSTAMP:20260421T063045
CREATED:20201007T054022Z
LAST-MODIFIED:20201007T054022Z
UID:3639-1602921600-1603558800@iamcharliwall.com
SUMMARY:Charli week off
DESCRIPTION:
URL:https://iamcharliwall.com/event/charli-week-off/
END:VEVENT
BEGIN:VEVENT
DTSTART;TZID=Europe/London:20201015T130000
DTEND;TZID=Europe/London:20201015T133000
DTSTAMP:20260421T063045
CREATED:20201007T051726Z
LAST-MODIFIED:20201007T051748Z
UID:3626-1602766800-1602768600@iamcharliwall.com
SUMMARY:Yoga
DESCRIPTION:Join me for your yoga session live in our FB group
URL:https://iamcharliwall.com/event/yoga-2/
CATEGORIES:Yoga
END:VEVENT
BEGIN:VEVENT
DTSTART;TZID=Europe/London:20201014T193000
DTEND;TZID=Europe/London:20201014T203000
DTSTAMP:20260421T063045
CREATED:20201007T050312Z
LAST-MODIFIED:20201007T050312Z
UID:3616-1602703800-1602707400@iamcharliwall.com
SUMMARY:Guest interview with Del Adey-Jones
DESCRIPTION:Please join us at 7.30pm\, where are guest this month will be Del Adey-Jones  \nThis will be held via zoom where you’ll be able to hear Del speak about codependency\, her journey with the principles and how she found freedom from toxic relationships & narcissists. \nJoin Zoom Meeting\nhttps://us02web.zoom.us/j/81833265616 \nMeeting ID: 818 3326 5616 \n 
URL:https://iamcharliwall.com/event/guest-interview-with-del-adey-jones/
CATEGORIES:Interviews
ATTACH;FMTTYPE=image/jpeg:https://iamcharliwall.com/wp-content/uploads/2020/10/13680557_676906245796585_4849935083635051019_n.jpg
END:VEVENT
BEGIN:VEVENT
DTSTART;TZID=Europe/London:20201013T123000
DTEND;TZID=Europe/London:20201013T130000
DTSTAMP:20260421T063045
CREATED:20201007T051525Z
LAST-MODIFIED:20201007T051525Z
UID:3624-1602592200-1602594000@iamcharliwall.com
SUMMARY:Ask Charli Anything
DESCRIPTION:This is your weekly ‘Ask Charli Anything’ slot. Join via Zoom\nhttps://us02web.zoom.us/j/9190940062 \nOne person can have hot-spot coaching for 15 mins
URL:https://iamcharliwall.com/event/ask-charli-anything/
CATEGORIES:Ask me anything
END:VEVENT
BEGIN:VEVENT
DTSTART;TZID=Europe/London:20201013T070000
DTEND;TZID=Europe/London:20201013T073000
DTSTAMP:20260421T063045
CREATED:20201007T051112Z
LAST-MODIFIED:20201007T051112Z
UID:3622-1602572400-1602574200@iamcharliwall.com
SUMMARY:HIIT session
DESCRIPTION:Join me live in our FB group for a HIIT session
URL:https://iamcharliwall.com/event/hiit-session/
CATEGORIES:HIIT
END:VEVENT
BEGIN:VEVENT
DTSTART;TZID=Europe/London:20201009T100000
DTEND;TZID=Europe/London:20201009T110000
DTSTAMP:20260421T063045
CREATED:20201005T200640Z
LAST-MODIFIED:20201007T050445Z
UID:3609-1602237600-1602241200@iamcharliwall.com
SUMMARY:Friday daytime Group Coaching Call
DESCRIPTION:Our Friday day time group coaching call will be held via Zoom\, and stream live into our FB group directly. \nJoin Zoom Meeting\nhttps://us02web.zoom.us/j/9190940062 \nMeeting ID: 919 094 0062 \n 
URL:https://iamcharliwall.com/event/friday-group-call/
CATEGORIES:Group Calls
ATTACH;FMTTYPE=image/jpeg:https://iamcharliwall.com/wp-content/uploads/2020/10/Possibility-Chats-.jpg
END:VEVENT
BEGIN:VEVENT
DTSTART;TZID=Europe/London:20201008T130000
DTEND;TZID=Europe/London:20201008T133000
DTSTAMP:20260421T063045
CREATED:20201007T050917Z
LAST-MODIFIED:20201007T053719Z
UID:3620-1602162000-1602163800@iamcharliwall.com
SUMMARY:Yoga
DESCRIPTION:Please join me live for yoga at 1pm \nThis event will stream live into your FB group
URL:https://iamcharliwall.com/event/yoga/
CATEGORIES:Yoga
END:VEVENT
END:VCALENDAR