BEGIN:VCALENDAR
VERSION:2.0
PRODID:-//Charli Wall - ECPv6.15.17//NONSGML v1.0//EN
CALSCALE:GREGORIAN
METHOD:PUBLISH
X-WR-CALNAME:Charli Wall
X-ORIGINAL-URL:https://iamcharliwall.com
X-WR-CALDESC:Events for Charli Wall
REFRESH-INTERVAL;VALUE=DURATION:PT1H
X-Robots-Tag:noindex
X-PUBLISHED-TTL:PT1H
BEGIN:VTIMEZONE
TZID:Europe/London
BEGIN:DAYLIGHT
TZOFFSETFROM:+0000
TZOFFSETTO:+0100
TZNAME:BST
DTSTART:20200329T010000
END:DAYLIGHT
BEGIN:STANDARD
TZOFFSETFROM:+0100
TZOFFSETTO:+0000
TZNAME:GMT
DTSTART:20201025T010000
END:STANDARD
BEGIN:DAYLIGHT
TZOFFSETFROM:+0000
TZOFFSETTO:+0100
TZNAME:BST
DTSTART:20210328T010000
END:DAYLIGHT
BEGIN:STANDARD
TZOFFSETFROM:+0100
TZOFFSETTO:+0000
TZNAME:GMT
DTSTART:20211031T010000
END:STANDARD
BEGIN:DAYLIGHT
TZOFFSETFROM:+0000
TZOFFSETTO:+0100
TZNAME:BST
DTSTART:20220327T010000
END:DAYLIGHT
BEGIN:STANDARD
TZOFFSETFROM:+0100
TZOFFSETTO:+0000
TZNAME:GMT
DTSTART:20221030T010000
END:STANDARD
END:VTIMEZONE
BEGIN:VEVENT
DTSTART;TZID=Europe/London:20210413T110000
DTEND;TZID=Europe/London:20210413T113000
DTSTAMP:20260420T225840
CREATED:20210408T092258Z
LAST-MODIFIED:20210408T092341Z
UID:3822-1618311600-1618313400@iamcharliwall.com
SUMMARY:Ask Me Anything
DESCRIPTION:Your chance to ask me anything at all. Please leave questions on our FB group and I will go live at 11 am.
URL:https://iamcharliwall.com/event/ask-me-anything-12/
CATEGORIES:Ask me anything
END:VEVENT
BEGIN:VEVENT
DTSTART;TZID=Europe/London:20210413T080000
DTEND;TZID=Europe/London:20210413T083000
DTSTAMP:20260420T225840
CREATED:20210408T092456Z
LAST-MODIFIED:20210408T092524Z
UID:3824-1618300800-1618302600@iamcharliwall.com
SUMMARY:HIIT
DESCRIPTION:HIIT session at 8 am. Live on the FB group
URL:https://iamcharliwall.com/event/hiit-16/
CATEGORIES:HIIT
END:VEVENT
BEGIN:VEVENT
DTSTART;TZID=Europe/London:20210330T110000
DTEND;TZID=Europe/London:20210330T113000
DTSTAMP:20260420T225840
CREATED:20210301T133124Z
LAST-MODIFIED:20210301T133124Z
UID:3815-1617102000-1617103800@iamcharliwall.com
SUMMARY:Ask Me Anything
DESCRIPTION:
URL:https://iamcharliwall.com/event/ask-me-anything-11/
CATEGORIES:Ask me anything
END:VEVENT
BEGIN:VEVENT
DTSTART;TZID=Europe/London:20210330T080000
DTEND;TZID=Europe/London:20210330T083000
DTSTAMP:20260420T225840
CREATED:20210301T133027Z
LAST-MODIFIED:20210301T133027Z
UID:3813-1617091200-1617093000@iamcharliwall.com
SUMMARY:HIIT
DESCRIPTION:
URL:https://iamcharliwall.com/event/hiit-15/
CATEGORIES:HIIT
END:VEVENT
BEGIN:VEVENT
DTSTART;TZID=Europe/London:20210326T103000
DTEND;TZID=Europe/London:20210326T113000
DTSTAMP:20260420T225840
CREATED:20210301T112235Z
LAST-MODIFIED:20210301T112526Z
UID:3786-1616754600-1616758200@iamcharliwall.com
SUMMARY:Daytime Group coaching
DESCRIPTION:Friday 26th March on Zoom at 10.30am – 11.30a \nJoin Zoom Meeting\nhttps://us02web.zoom.us/j/81882455865 \n 
URL:https://iamcharliwall.com/event/daytime-group-coaching-2/
CATEGORIES:Group Calls
END:VEVENT
BEGIN:VEVENT
DTSTART;TZID=Europe/London:20210325T103000
DTEND;TZID=Europe/London:20210325T110000
DTSTAMP:20260420T225840
CREATED:20210301T132933Z
LAST-MODIFIED:20210301T132933Z
UID:3811-1616668200-1616670000@iamcharliwall.com
SUMMARY:Yoga
DESCRIPTION:
URL:https://iamcharliwall.com/event/yoga-17/
CATEGORIES:Yoga
END:VEVENT
BEGIN:VEVENT
DTSTART;TZID=Europe/London:20210323T110000
DTEND;TZID=Europe/London:20210323T113000
DTSTAMP:20260420T225840
CREATED:20210301T132118Z
LAST-MODIFIED:20210301T132221Z
UID:3809-1616497200-1616499000@iamcharliwall.com
SUMMARY:Ask me anything
DESCRIPTION:
URL:https://iamcharliwall.com/event/ask-me-anything-10/
CATEGORIES:Ask me anything
END:VEVENT
BEGIN:VEVENT
DTSTART;TZID=Europe/London:20210323T080000
DTEND;TZID=Europe/London:20210323T083000
DTSTAMP:20260420T225840
CREATED:20210301T120020Z
LAST-MODIFIED:20210301T120020Z
UID:3807-1616486400-1616488200@iamcharliwall.com
SUMMARY:HIIT
DESCRIPTION:
URL:https://iamcharliwall.com/event/hiit-14/
CATEGORIES:HIIT
END:VEVENT
BEGIN:VEVENT
DTSTART;TZID=Europe/London:20210318T190000
DTEND;TZID=Europe/London:20210318T200000
DTSTAMP:20260420T225840
CREATED:20210301T115733Z
LAST-MODIFIED:20210301T115733Z
UID:3803-1616094000-1616097600@iamcharliwall.com
SUMMARY:Cathy Casey part2
DESCRIPTION:This month\, Cathy Casey has agreed to come back and talk to you all and answer your questions. \nVia Zoom \n  \n7pm
URL:https://iamcharliwall.com/event/cathy-casey-part2/
CATEGORIES:Interviews
END:VEVENT
BEGIN:VEVENT
DTSTART;VALUE=DATE:20210318
DTEND;VALUE=DATE:20210323
DTSTAMP:20260420T225840
CREATED:20210301T115843Z
LAST-MODIFIED:20210301T115843Z
UID:3805-1616025600-1616457599@iamcharliwall.com
SUMMARY:Charli on a course
DESCRIPTION:
URL:https://iamcharliwall.com/event/charli-on-a-course/
END:VEVENT
BEGIN:VEVENT
DTSTART;TZID=Europe/London:20210316T110000
DTEND;TZID=Europe/London:20210316T113000
DTSTAMP:20260420T225840
CREATED:20210301T115535Z
LAST-MODIFIED:20210301T115535Z
UID:3801-1615892400-1615894200@iamcharliwall.com
SUMMARY:Ask me anything
DESCRIPTION:Ask me anything at 11am in our circle group. Please ask your questions on the group or to me privately.
URL:https://iamcharliwall.com/event/ask-me-anything-9/
CATEGORIES:Ask me anything
END:VEVENT
BEGIN:VEVENT
DTSTART;TZID=Europe/London:20210316T080000
DTEND;TZID=Europe/London:20210316T083000
DTSTAMP:20260420T225840
CREATED:20210301T115416Z
LAST-MODIFIED:20210301T115416Z
UID:3799-1615881600-1615883400@iamcharliwall.com
SUMMARY:HIIT
DESCRIPTION:HIIT at 8am in the usual place 🙂
URL:https://iamcharliwall.com/event/hiit-13/
CATEGORIES:HIIT
END:VEVENT
BEGIN:VEVENT
DTSTART;TZID=Europe/London:20210311T190000
DTEND;TZID=Europe/London:20210311T200000
DTSTAMP:20260420T225840
CREATED:20210301T113655Z
LAST-MODIFIED:20210301T113655Z
UID:3797-1615489200-1615492800@iamcharliwall.com
SUMMARY:Group Coaching Eve
DESCRIPTION:Live on Zoom at 7pm
URL:https://iamcharliwall.com/event/group-coaching-eve/
CATEGORIES:Group Calls
END:VEVENT
BEGIN:VEVENT
DTSTART;TZID=Europe/London:20210311T110000
DTEND;TZID=Europe/London:20210311T113000
DTSTAMP:20260420T225840
CREATED:20210301T113327Z
LAST-MODIFIED:20210301T113327Z
UID:3795-1615460400-1615462200@iamcharliwall.com
SUMMARY:Yoga
DESCRIPTION:Live in our group at 11am
URL:https://iamcharliwall.com/event/yoga-16/
CATEGORIES:Yoga
END:VEVENT
BEGIN:VEVENT
DTSTART;TZID=Europe/London:20210309T110000
DTEND;TZID=Europe/London:20210309T233000
DTSTAMP:20260420T225840
CREATED:20210301T113101Z
LAST-MODIFIED:20210301T113209Z
UID:3793-1615287600-1615332600@iamcharliwall.com
SUMMARY:Ask Me Anything
DESCRIPTION:Live in our group at 11am \n 
URL:https://iamcharliwall.com/event/ask-me-anything-8/
CATEGORIES:Ask me anything
END:VEVENT
BEGIN:VEVENT
DTSTART;TZID=Europe/London:20210309T080000
DTEND;TZID=Europe/London:20210309T083000
DTSTAMP:20260420T225840
CREATED:20210301T112940Z
LAST-MODIFIED:20210301T112940Z
UID:3791-1615276800-1615278600@iamcharliwall.com
SUMMARY:HIIT
DESCRIPTION:HIIT session live on our group
URL:https://iamcharliwall.com/event/hiit-12/
CATEGORIES:HIIT
END:VEVENT
BEGIN:VEVENT
DTSTART;TZID=Europe/London:20210304T193000
DTEND;TZID=Europe/London:20210304T203000
DTSTAMP:20260420T225840
CREATED:20210301T112755Z
LAST-MODIFIED:20210301T112755Z
UID:3789-1614886200-1614889800@iamcharliwall.com
SUMMARY:Guest coach: Ian Watson
DESCRIPTION:This month we have the 1st of two guest coaches – Ian Watson. \nPlease see event details on our group for information.
URL:https://iamcharliwall.com/event/guest-coach-ian-watson/
CATEGORIES:Interviews
END:VEVENT
BEGIN:VEVENT
DTSTART;TZID=Europe/London:20210302T110000
DTEND;TZID=Europe/London:20210302T113000
DTSTAMP:20260420T225840
CREATED:20210301T111909Z
LAST-MODIFIED:20210301T111909Z
UID:3784-1614682800-1614684600@iamcharliwall.com
SUMMARY:Ask me anything
DESCRIPTION:Live in our FB group at 11am 2nd March
URL:https://iamcharliwall.com/event/ask-me-anything-7/
CATEGORIES:Ask me anything
END:VEVENT
BEGIN:VEVENT
DTSTART;TZID=Europe/London:20210302T080000
DTEND;TZID=Europe/London:20210302T083000
DTSTAMP:20260420T225840
CREATED:20210301T111737Z
LAST-MODIFIED:20210301T111737Z
UID:3782-1614672000-1614673800@iamcharliwall.com
SUMMARY:HIIT
DESCRIPTION:HIIT session live on FB group \n8am
URL:https://iamcharliwall.com/event/hiit-11/
CATEGORIES:HIIT
END:VEVENT
BEGIN:VEVENT
DTSTART;TZID=Europe/London:20210225T190000
DTEND;TZID=Europe/London:20210225T200000
DTSTAMP:20260420T225840
CREATED:20210201T165602Z
LAST-MODIFIED:20210201T170118Z
UID:3767-1614279600-1614283200@iamcharliwall.com
SUMMARY:Feb Eve Coaching Call
DESCRIPTION:7pm Thursday 25th Feb on Zoom or group coaching call \nJoin Zoom Meeting\nhttps://us02web.zoom.us/j/9190940062 \nMeeting ID: 919 094 0062
URL:https://iamcharliwall.com/event/feb-eve-coaching-call/
CATEGORIES:Group Calls
END:VEVENT
BEGIN:VEVENT
DTSTART;TZID=Europe/London:20210223T110000
DTEND;TZID=Europe/London:20210223T113000
DTSTAMP:20260420T225840
CREATED:20210201T165309Z
LAST-MODIFIED:20210201T165309Z
UID:3765-1614078000-1614079800@iamcharliwall.com
SUMMARY:Ask Charli anything
DESCRIPTION:https://www.facebook.com/groups/SheConnectsCircle
URL:https://iamcharliwall.com/event/ask-charli-anything-7/
CATEGORIES:Ask me anything
END:VEVENT
BEGIN:VEVENT
DTSTART;TZID=Europe/London:20210223T080000
DTEND;TZID=Europe/London:20210223T083000
DTSTAMP:20260420T225840
CREATED:20210201T165101Z
LAST-MODIFIED:20210201T165124Z
UID:3763-1614067200-1614069000@iamcharliwall.com
SUMMARY:HIIT
DESCRIPTION:Live on the FB group 8am 23rd Feb
URL:https://iamcharliwall.com/event/hiit-10/
CATEGORIES:HIIT
END:VEVENT
BEGIN:VEVENT
DTSTART;TZID=Europe/London:20210218T100000
DTEND;TZID=Europe/London:20210218T223000
DTSTAMP:20260420T225840
CREATED:20210201T164053Z
LAST-MODIFIED:20210201T164053Z
UID:3760-1613642400-1613687400@iamcharliwall.com
SUMMARY:Yoga
DESCRIPTION:Live in the FB group  \n10am 18th Feb
URL:https://iamcharliwall.com/event/yoga-15/
CATEGORIES:Yoga
END:VEVENT
BEGIN:VEVENT
DTSTART;TZID=Europe/London:20210216T080000
DTEND;TZID=Europe/London:20210216T083000
DTSTAMP:20260420T225840
CREATED:20210201T163859Z
LAST-MODIFIED:20210201T163859Z
UID:3758-1613462400-1613464200@iamcharliwall.com
SUMMARY:HIIT
DESCRIPTION:To be held live on our FB group at 8am 16th Feb. 
URL:https://iamcharliwall.com/event/hiit-9/
CATEGORIES:HIIT
END:VEVENT
BEGIN:VEVENT
DTSTART;TZID=Europe/London:20210212T113000
DTEND;TZID=Europe/London:20210212T123000
DTSTAMP:20260420T225840
CREATED:20210201T163658Z
LAST-MODIFIED:20210201T163658Z
UID:3756-1613129400-1613133000@iamcharliwall.com
SUMMARY:Feb Daytime Coaching
DESCRIPTION:To be held on Zoom at 11.30am \nJoin Zoom Meeting\nhttps://us02web.zoom.us/j/9190940062 \nMeeting ID: 919 094 0062 \n 
URL:https://iamcharliwall.com/event/feb-daytime-coaching/
CATEGORIES:Group Calls
END:VEVENT
BEGIN:VEVENT
DTSTART;TZID=Europe/London:20210211T100000
DTEND;TZID=Europe/London:20210211T103000
DTSTAMP:20260420T225840
CREATED:20210201T163156Z
LAST-MODIFIED:20210201T163156Z
UID:3754-1613037600-1613039400@iamcharliwall.com
SUMMARY:Yoga
DESCRIPTION:Yoga live in the FB group 10am 11th Feb
URL:https://iamcharliwall.com/event/yoga-14/
CATEGORIES:Yoga
END:VEVENT
BEGIN:VEVENT
DTSTART;TZID=Europe/London:20210209T110000
DTEND;TZID=Europe/London:20210209T113000
DTSTAMP:20260420T225840
CREATED:20210201T163038Z
LAST-MODIFIED:20210201T163038Z
UID:3752-1612868400-1612870200@iamcharliwall.com
SUMMARY:Ask Charli Anything
DESCRIPTION:Live in the FB group 11am 9th Feb
URL:https://iamcharliwall.com/event/ask-charli-anything-6/
CATEGORIES:Ask me anything
END:VEVENT
BEGIN:VEVENT
DTSTART;TZID=Europe/London:20210209T080000
DTEND;TZID=Europe/London:20210209T083000
DTSTAMP:20260420T225840
CREATED:20210201T162926Z
LAST-MODIFIED:20210201T162926Z
UID:3750-1612857600-1612859400@iamcharliwall.com
SUMMARY:HIIT
DESCRIPTION:HIIT live on the FB group 8am 9th Feb
URL:https://iamcharliwall.com/event/hiit-8/
CATEGORIES:HIIT
END:VEVENT
BEGIN:VEVENT
DTSTART;TZID=Europe/London:20210204T190000
DTEND;TZID=Europe/London:20210204T200000
DTSTAMP:20260420T225840
CREATED:20210201T145610Z
LAST-MODIFIED:20210201T162643Z
UID:3748-1612465200-1612468800@iamcharliwall.com
SUMMARY:Guest Coaching with Cathy Casey
DESCRIPTION:7 pm Thursday 4th we have the wonderful Cathy Casey as our guest coach this month. \n  \nJoin Zoom Meeting\nhttps://us02web.zoom.us/j/9190940062 \n 
URL:https://iamcharliwall.com/event/guest-coaching-with-cathy-casey/
CATEGORIES:Interviews
END:VEVENT
BEGIN:VEVENT
DTSTART;TZID=Europe/London:20210204T100000
DTEND;TZID=Europe/London:20210204T103000
DTSTAMP:20260420T225840
CREATED:20210201T145320Z
LAST-MODIFIED:20210201T145320Z
UID:3746-1612432800-1612434600@iamcharliwall.com
SUMMARY:Yoga
DESCRIPTION:Live in the FB group 10am Thursday 4th Feb
URL:https://iamcharliwall.com/event/yoga-13/
CATEGORIES:Yoga
END:VEVENT
END:VCALENDAR