BEGIN:VCALENDAR
VERSION:2.0
PRODID:-//Charli Wall - ECPv6.15.17//NONSGML v1.0//EN
CALSCALE:GREGORIAN
METHOD:PUBLISH
X-WR-CALNAME:Charli Wall
X-ORIGINAL-URL:https://iamcharliwall.com
X-WR-CALDESC:Events for Charli Wall
REFRESH-INTERVAL;VALUE=DURATION:PT1H
X-Robots-Tag:noindex
X-PUBLISHED-TTL:PT1H
BEGIN:VTIMEZONE
TZID:Europe/London
BEGIN:DAYLIGHT
TZOFFSETFROM:+0000
TZOFFSETTO:+0100
TZNAME:BST
DTSTART:20200329T010000
END:DAYLIGHT
BEGIN:STANDARD
TZOFFSETFROM:+0100
TZOFFSETTO:+0000
TZNAME:GMT
DTSTART:20201025T010000
END:STANDARD
BEGIN:DAYLIGHT
TZOFFSETFROM:+0000
TZOFFSETTO:+0100
TZNAME:BST
DTSTART:20210328T010000
END:DAYLIGHT
BEGIN:STANDARD
TZOFFSETFROM:+0100
TZOFFSETTO:+0000
TZNAME:GMT
DTSTART:20211031T010000
END:STANDARD
BEGIN:DAYLIGHT
TZOFFSETFROM:+0000
TZOFFSETTO:+0100
TZNAME:BST
DTSTART:20220327T010000
END:DAYLIGHT
BEGIN:STANDARD
TZOFFSETFROM:+0100
TZOFFSETTO:+0000
TZNAME:GMT
DTSTART:20221030T010000
END:STANDARD
END:VTIMEZONE
BEGIN:VEVENT
DTSTART;TZID=Europe/London:20210622T110000
DTEND;TZID=Europe/London:20210622T120000
DTSTAMP:20260421T174510
CREATED:20210601T114014Z
LAST-MODIFIED:20210601T114014Z
UID:3976-1624359600-1624363200@iamcharliwall.com
SUMMARY:Ask Me Anything
DESCRIPTION:Live on the FB group at 11 am
URL:https://iamcharliwall.com/event/ask-me-anything-22/
END:VEVENT
BEGIN:VEVENT
DTSTART;TZID=Europe/London:20210622T073000
DTEND;TZID=Europe/London:20210622T080000
DTSTAMP:20260421T174510
CREATED:20210601T113249Z
LAST-MODIFIED:20210601T113249Z
UID:3968-1624347000-1624348800@iamcharliwall.com
SUMMARY:HIIT
DESCRIPTION:HIIT live on the FB group at 7.30 am
URL:https://iamcharliwall.com/event/hiit-26/
END:VEVENT
BEGIN:VEVENT
DTSTART;TZID=Europe/London:20210616T190000
DTEND;TZID=Europe/London:20210616T200000
DTSTAMP:20260421T174510
CREATED:20210602T072659Z
LAST-MODIFIED:20210602T072659Z
UID:3984-1623870000-1623873600@iamcharliwall.com
SUMMARY:June guest coach: Dr. Aaron Turner
DESCRIPTION:This is a great write up on Aaron Turner https://visualmarvelry.com/…/dr-aaron-turner-_-the…/ \nHe runs this company https://onethought.com \nHe is the nephew of Dr. George Pransky who is someone who has trained thousands of people in this understanding and trained directly under Syd Banks (as did Aaron). \nHe is exceptionally grounded and has agreed to come and coach you lot. \nI hope you can join us live.
URL:https://iamcharliwall.com/event/june-guest-coach-dr-aaron-turner/
END:VEVENT
BEGIN:VEVENT
DTSTART;TZID=Europe/London:20210615T110000
DTEND;TZID=Europe/London:20210615T120000
DTSTAMP:20260421T174510
CREATED:20210601T113856Z
LAST-MODIFIED:20210601T113856Z
UID:3974-1623754800-1623758400@iamcharliwall.com
SUMMARY:Ask Me Anything
DESCRIPTION:Live on the FB group at 11 am
URL:https://iamcharliwall.com/event/ask-me-anything-21/
END:VEVENT
BEGIN:VEVENT
DTSTART;TZID=Europe/London:20210615T073000
DTEND;TZID=Europe/London:20210615T080000
DTSTAMP:20260421T174510
CREATED:20210601T113105Z
LAST-MODIFIED:20210601T113105Z
UID:3966-1623742200-1623744000@iamcharliwall.com
SUMMARY:HIIT
DESCRIPTION:HIIT live on the FB group at 7.30 am
URL:https://iamcharliwall.com/event/hiit-25/
END:VEVENT
BEGIN:VEVENT
DTSTART;TZID=Europe/London:20210610T193000
DTEND;TZID=Europe/London:20210610T203000
DTSTAMP:20260421T174510
CREATED:20210602T071744Z
LAST-MODIFIED:20210602T071744Z
UID:3981-1623353400-1623357000@iamcharliwall.com
SUMMARY:June evening group coaching
DESCRIPTION:7:30 pm on Zoom \nCharli is inviting you to a scheduled Zoom meeting. \nTopic: June evening group coaching\nTime: June 10\, 2021 07:30 PM London \nJoin Zoom Meeting\nhttps://us02web.zoom.us/j/9190940062 \nMeeting ID: 919 094 0062\nOne tap mobile\n+13126266799\,\,9190940062# US (Chicago)\n+13462487799\,\,9190940062# US (Houston) \nDial by your location\n+1 312 626 6799 US (Chicago)\n+1 346 248 7799 US (Houston)\n+1 669 900 6833 US (San Jose)\n+1 929 205 6099 US (New York)\n+1 253 215 8782 US (Tacoma)\n+1 301 715 8592 US (Washington DC)\n+44 208 080 6591 United Kingdom\n+44 208 080 6592 United Kingdom\n+44 330 088 5830 United Kingdom\n+44 131 460 1196 United Kingdom\n+44 203 481 5237 United Kingdom\n+44 203 481 5240 United Kingdom\n+44 203 901 7895 United Kingdom\nMeeting ID: 919 094 0062\nFind your local number: https://us02web.zoom.us/u/kboDcJH4w
URL:https://iamcharliwall.com/event/june-evening-group-coaching/
END:VEVENT
BEGIN:VEVENT
DTSTART;TZID=Europe/London:20210608T110000
DTEND;TZID=Europe/London:20210608T120000
DTSTAMP:20260421T174510
CREATED:20210601T113638Z
LAST-MODIFIED:20210601T113745Z
UID:3972-1623150000-1623153600@iamcharliwall.com
SUMMARY:Ask Me Anything
DESCRIPTION:Live on the FB group at 11 am
URL:https://iamcharliwall.com/event/ask-me-anything-20/
END:VEVENT
BEGIN:VEVENT
DTSTART;TZID=Europe/London:20210608T073000
DTEND;TZID=Europe/London:20210608T080000
DTSTAMP:20260421T174510
CREATED:20210601T112919Z
LAST-MODIFIED:20210601T112919Z
UID:3964-1623137400-1623139200@iamcharliwall.com
SUMMARY:HIIT
DESCRIPTION:HIIT live on the FB group at 7.30 am
URL:https://iamcharliwall.com/event/hiit-24/
END:VEVENT
BEGIN:VEVENT
DTSTART;TZID=Europe/London:20210601T110000
DTEND;TZID=Europe/London:20210601T120000
DTSTAMP:20260421T174510
CREATED:20210601T112250Z
LAST-MODIFIED:20210601T112250Z
UID:3960-1622545200-1622548800@iamcharliwall.com
SUMMARY:Ask Me Anything
DESCRIPTION:Live on the FB group at 11 am
URL:https://iamcharliwall.com/event/ask-me-anything-19/
END:VEVENT
BEGIN:VEVENT
DTSTART;TZID=Europe/London:20210601T073000
DTEND;TZID=Europe/London:20210601T080000
DTSTAMP:20260421T174510
CREATED:20210601T112508Z
LAST-MODIFIED:20210601T112508Z
UID:3962-1622532600-1622534400@iamcharliwall.com
SUMMARY:HIIT
DESCRIPTION:HIIT live on the FB group at 7.30 am
URL:https://iamcharliwall.com/event/hiit-23/
END:VEVENT
BEGIN:VEVENT
DTSTART;TZID=Europe/London:20210525T110000
DTEND;TZID=Europe/London:20210525T120000
DTSTAMP:20260421T174510
CREATED:20210503T172359Z
LAST-MODIFIED:20210503T172359Z
UID:3867-1621940400-1621944000@iamcharliwall.com
SUMMARY:Ask Me Anything
DESCRIPTION:Live on the FB group at 11 am \n 
URL:https://iamcharliwall.com/event/ask-me-anything-18/
CATEGORIES:Ask me anything
END:VEVENT
BEGIN:VEVENT
DTSTART;TZID=Europe/London:20210525T073000
DTEND;TZID=Europe/London:20210525T080000
DTSTAMP:20260421T174511
CREATED:20210503T173226Z
LAST-MODIFIED:20210503T173226Z
UID:3871-1621927800-1621929600@iamcharliwall.com
SUMMARY:HIIT
DESCRIPTION:Live in the fb group at 7.30am
URL:https://iamcharliwall.com/event/hiit-22/
CATEGORIES:HIIT
END:VEVENT
BEGIN:VEVENT
DTSTART;TZID=Europe/London:20210520T190000
DTEND;TZID=Europe/London:20210520T200000
DTSTAMP:20260421T174511
CREATED:20210428T055530Z
LAST-MODIFIED:20210428T055530Z
UID:3849-1621537200-1621540800@iamcharliwall.com
SUMMARY:May evening group coaching call
DESCRIPTION:7 pm on Zoom \nCharli is inviting you to a scheduled Zoom meeting. \nTopic: May eve coaching call\nTime: May 20\, 2021 07:00 PM London \nJoin Zoom Meeting\nhttps://us02web.zoom.us/j/9190940062 \nMeeting ID: 919 094 0062\nOne tap mobile\n+13126266799\,\,9190940062# US (Chicago)\n+13462487799\,\,9190940062# US (Houston) \nDial by your location\n+1 312 626 6799 US (Chicago)\n+1 346 248 7799 US (Houston)\n+1 669 900 6833 US (San Jose)\n+1 929 205 6099 US (New York)\n+1 253 215 8782 US (Tacoma)\n+1 301 715 8592 US (Washington DC)\n+44 208 080 6591 United Kingdom\n+44 208 080 6592 United Kingdom\n+44 330 088 5830 United Kingdom\n+44 131 460 1196 United Kingdom\n+44 203 481 5237 United Kingdom\n+44 203 481 5240 United Kingdom\n+44 203 901 7895 United Kingdom\nMeeting ID: 919 094 0062\nFind your local number: https://us02web.zoom.us/u/kboDcJH4w \n 
URL:https://iamcharliwall.com/event/may-evening-group-coaching-call/
CATEGORIES:Group Calls
END:VEVENT
BEGIN:VEVENT
DTSTART;TZID=Europe/London:20210518T110000
DTEND;TZID=Europe/London:20210518T120000
DTSTAMP:20260421T174511
CREATED:20210503T172120Z
LAST-MODIFIED:20210503T172120Z
UID:3865-1621335600-1621339200@iamcharliwall.com
SUMMARY:Ask Me Anything
DESCRIPTION:https://www.facebook.com/groups/SheConnectsCircle \n11 am AMA live on the group
URL:https://iamcharliwall.com/event/ask-me-anything-17/
CATEGORIES:Ask me anything
END:VEVENT
BEGIN:VEVENT
DTSTART;TZID=Europe/London:20210518T073000
DTEND;TZID=Europe/London:20210518T080000
DTSTAMP:20260421T174511
CREATED:20210503T173103Z
LAST-MODIFIED:20210503T173103Z
UID:3869-1621323000-1621324800@iamcharliwall.com
SUMMARY:HIIT
DESCRIPTION:HIIT live on the FB group at 7.30 am
URL:https://iamcharliwall.com/event/hiit-21/
CATEGORIES:HIIT
END:VEVENT
BEGIN:VEVENT
DTSTART;TZID=Europe/London:20210514T103000
DTEND;TZID=Europe/London:20210514T113000
DTSTAMP:20260421T174511
CREATED:20210428T055829Z
LAST-MODIFIED:20210428T055829Z
UID:3851-1620988200-1620991800@iamcharliwall.com
SUMMARY:May daytime coaching call
DESCRIPTION:Held on Zoom at 10.30a\, \n  \nJoin Zoom Meeting\nhttps://us02web.zoom.us/j/9190940062 \n 
URL:https://iamcharliwall.com/event/may-daytime-coaching-call/
CATEGORIES:Group Calls
END:VEVENT
BEGIN:VEVENT
DTSTART;TZID=Europe/London:20210511T110000
DTEND;TZID=Europe/London:20210511T120000
DTSTAMP:20260421T174511
CREATED:20210503T171922Z
LAST-MODIFIED:20210503T171922Z
UID:3863-1620730800-1620734400@iamcharliwall.com
SUMMARY:Ask Me Anything
DESCRIPTION:https://www.facebook.com/groups/SheConnectsCircle 11 am live in the FB group. 
URL:https://iamcharliwall.com/event/ask-me-anything-16/
CATEGORIES:Ask me anything
END:VEVENT
BEGIN:VEVENT
DTSTART;TZID=Europe/London:20210511T073000
DTEND;TZID=Europe/London:20210511T080000
DTSTAMP:20260421T174511
CREATED:20210503T171425Z
LAST-MODIFIED:20210503T171425Z
UID:3859-1620718200-1620720000@iamcharliwall.com
SUMMARY:HIIT
DESCRIPTION:Live on the FB group at 07.30 am
URL:https://iamcharliwall.com/event/hiit-20/
CATEGORIES:HIIT
END:VEVENT
BEGIN:VEVENT
DTSTART;TZID=Europe/London:20210506T073000
DTEND;TZID=Europe/London:20210506T080000
DTSTAMP:20260421T174511
CREATED:20210503T171249Z
LAST-MODIFIED:20210503T171249Z
UID:3857-1620286200-1620288000@iamcharliwall.com
SUMMARY:HIIT
DESCRIPTION:HIIT live on the FB group at 7.30 am THURSDAY!!
URL:https://iamcharliwall.com/event/hiit-19/
CATEGORIES:HIIT
END:VEVENT
BEGIN:VEVENT
DTSTART;TZID=Europe/London:20210505T183000
DTEND;TZID=Europe/London:20210505T193000
DTSTAMP:20260421T174511
CREATED:20210503T170350Z
LAST-MODIFIED:20210503T170350Z
UID:3854-1620239400-1620243000@iamcharliwall.com
SUMMARY:Dicken Bettinger is our May guest!!!
DESCRIPTION:  \nMay 5th at 6.30 pm 🙂 Amazing to have Dicken Bettinger this month. I hope you can join us live x \n 
URL:https://iamcharliwall.com/event/dicken-bettinger-is-our-may-guest/
CATEGORIES:Interviews
END:VEVENT
BEGIN:VEVENT
DTSTART;TZID=Europe/London:20210504T110000
DTEND;TZID=Europe/London:20210504T120000
DTSTAMP:20260421T174511
CREATED:20210503T171532Z
LAST-MODIFIED:20210503T171532Z
UID:3861-1620126000-1620129600@iamcharliwall.com
SUMMARY:Ask Me Anything
DESCRIPTION:Live on the FB group at 11am
URL:https://iamcharliwall.com/event/ask-me-anything-15/
CATEGORIES:Ask me anything
END:VEVENT
BEGIN:VEVENT
DTSTART;TZID=Europe/London:20210427T110000
DTEND;TZID=Europe/London:20210427T120000
DTSTAMP:20260421T174511
CREATED:20210409T150705Z
LAST-MODIFIED:20210409T150705Z
UID:3840-1619521200-1619524800@iamcharliwall.com
SUMMARY:Ask Me Anything
DESCRIPTION:Ask Me Anything
URL:https://iamcharliwall.com/event/ask-me-anything-14/
CATEGORIES:Ask me anything
END:VEVENT
BEGIN:VEVENT
DTSTART;TZID=Europe/London:20210427T080000
DTEND;TZID=Europe/London:20210427T083000
DTSTAMP:20260421T174511
CREATED:20210409T150603Z
LAST-MODIFIED:20210409T150603Z
UID:3838-1619510400-1619512200@iamcharliwall.com
SUMMARY:HIIT
DESCRIPTION:HIIT
URL:https://iamcharliwall.com/event/hiit-18/
CATEGORIES:HIIT
END:VEVENT
BEGIN:VEVENT
DTSTART;TZID=Europe/London:20210423T100000
DTEND;TZID=Europe/London:20210423T110000
DTSTAMP:20260421T174511
CREATED:20210409T151000Z
LAST-MODIFIED:20210409T151000Z
UID:3842-1619172000-1619175600@iamcharliwall.com
SUMMARY:April Daytime Coaching
DESCRIPTION:10 am Friday 23rd April
URL:https://iamcharliwall.com/event/april-daytime-coaching/
CATEGORIES:Group Calls
END:VEVENT
BEGIN:VEVENT
DTSTART;TZID=Europe/London:20210420T110000
DTEND;TZID=Europe/London:20210420T120000
DTSTAMP:20260421T174511
CREATED:20210409T150501Z
LAST-MODIFIED:20210409T150501Z
UID:3836-1618916400-1618920000@iamcharliwall.com
SUMMARY:Ask Me Anything
DESCRIPTION:Ask Me Anything at 11 am live on the group. Please ask your questions on our group 🙂 \n 
URL:https://iamcharliwall.com/event/ask-me-anything-13/
CATEGORIES:Ask me anything
END:VEVENT
BEGIN:VEVENT
DTSTART;TZID=Europe/London:20210420T080000
DTEND;TZID=Europe/London:20210420T083000
DTSTAMP:20260421T174511
CREATED:20210409T150335Z
LAST-MODIFIED:20210409T150335Z
UID:3834-1618905600-1618907400@iamcharliwall.com
SUMMARY:HIIT
DESCRIPTION:Live on the FB group <3 8 am.
URL:https://iamcharliwall.com/event/hiit-17/
CATEGORIES:HIIT
END:VEVENT
BEGIN:VEVENT
DTSTART;TZID=Europe/London:20210419T190000
DTEND;TZID=Europe/London:20210419T200000
DTSTAMP:20260421T174511
CREATED:20210408T091938Z
LAST-MODIFIED:20210408T091938Z
UID:3820-1618858800-1618862400@iamcharliwall.com
SUMMARY:April Evening Group Coaching
DESCRIPTION:Evening group coaching 7 pm Monday the 19th April on Zoom \n 
URL:https://iamcharliwall.com/event/april-evening-group-coaching/
CATEGORIES:Group Calls
END:VEVENT
BEGIN:VEVENT
DTSTART;TZID=Europe/London:20210414T193000
DTEND;TZID=Europe/London:20210414T203000
DTSTAMP:20260421T174511
CREATED:20210408T093323Z
LAST-MODIFIED:20210408T110221Z
UID:3827-1618428600-1618432200@iamcharliwall.com
SUMMARY:Jason Shiers
DESCRIPTION:  \nOur guest coach for April is the very lovely Jason Shiers 🙂 \n7.30pm on the 14th April \n 
URL:https://iamcharliwall.com/event/jason-shiers/
CATEGORIES:Interviews
END:VEVENT
BEGIN:VEVENT
DTSTART;TZID=Europe/London:20210413T110000
DTEND;TZID=Europe/London:20210413T113000
DTSTAMP:20260421T174511
CREATED:20210408T092258Z
LAST-MODIFIED:20210408T092341Z
UID:3822-1618311600-1618313400@iamcharliwall.com
SUMMARY:Ask Me Anything
DESCRIPTION:Your chance to ask me anything at all. Please leave questions on our FB group and I will go live at 11 am.
URL:https://iamcharliwall.com/event/ask-me-anything-12/
CATEGORIES:Ask me anything
END:VEVENT
BEGIN:VEVENT
DTSTART;TZID=Europe/London:20210413T080000
DTEND;TZID=Europe/London:20210413T083000
DTSTAMP:20260421T174511
CREATED:20210408T092456Z
LAST-MODIFIED:20210408T092524Z
UID:3824-1618300800-1618302600@iamcharliwall.com
SUMMARY:HIIT
DESCRIPTION:HIIT session at 8 am. Live on the FB group
URL:https://iamcharliwall.com/event/hiit-16/
CATEGORIES:HIIT
END:VEVENT
END:VCALENDAR