BEGIN:VCALENDAR
VERSION:2.0
PRODID:-//Charli Wall - ECPv6.15.17//NONSGML v1.0//EN
CALSCALE:GREGORIAN
METHOD:PUBLISH
X-WR-CALNAME:Charli Wall
X-ORIGINAL-URL:https://iamcharliwall.com
X-WR-CALDESC:Events for Charli Wall
REFRESH-INTERVAL;VALUE=DURATION:PT1H
X-Robots-Tag:noindex
X-PUBLISHED-TTL:PT1H
BEGIN:VTIMEZONE
TZID:Europe/London
BEGIN:DAYLIGHT
TZOFFSETFROM:+0000
TZOFFSETTO:+0100
TZNAME:BST
DTSTART:20200329T010000
END:DAYLIGHT
BEGIN:STANDARD
TZOFFSETFROM:+0100
TZOFFSETTO:+0000
TZNAME:GMT
DTSTART:20201025T010000
END:STANDARD
BEGIN:DAYLIGHT
TZOFFSETFROM:+0000
TZOFFSETTO:+0100
TZNAME:BST
DTSTART:20210328T010000
END:DAYLIGHT
BEGIN:STANDARD
TZOFFSETFROM:+0100
TZOFFSETTO:+0000
TZNAME:GMT
DTSTART:20211031T010000
END:STANDARD
BEGIN:DAYLIGHT
TZOFFSETFROM:+0000
TZOFFSETTO:+0100
TZNAME:BST
DTSTART:20220327T010000
END:DAYLIGHT
BEGIN:STANDARD
TZOFFSETFROM:+0100
TZOFFSETTO:+0000
TZNAME:GMT
DTSTART:20221030T010000
END:STANDARD
BEGIN:DAYLIGHT
TZOFFSETFROM:+0000
TZOFFSETTO:+0100
TZNAME:BST
DTSTART:20230326T010000
END:DAYLIGHT
BEGIN:STANDARD
TZOFFSETFROM:+0100
TZOFFSETTO:+0000
TZNAME:GMT
DTSTART:20231029T010000
END:STANDARD
END:VTIMEZONE
BEGIN:VEVENT
DTSTART;TZID=Europe/London:20220318T110000
DTEND;TZID=Europe/London:20220318T123000
DTSTAMP:20260420T132815
CREATED:20220228T010412Z
LAST-MODIFIED:20220228T010412Z
UID:4494-1647601200-1647606600@iamcharliwall.com
SUMMARY:March Group Coaching (Daytime)
DESCRIPTION:Hey ladies\, this month will be a daytime slot for coaching\, and I am going to aim to do them on the full moon moving forwards.\n\nTraditionally when we have a Full Moon\, the Earth’s energy is extremely emotional and ready for release. This is a time when we can let go of what no longer serves us\, so I figured it would be a good time to get together as a circle and share.\n\nLet me know what you think \n\n11-12.30 pm
URL:https://iamcharliwall.com/event/march-group-coaching-daytime/
CATEGORIES:Group Calls
END:VEVENT
BEGIN:VEVENT
DTSTART;TZID=Europe/London:20220317T190000
DTEND;TZID=Europe/London:20220317T200000
DTSTAMP:20260420T132815
CREATED:20211101T160336Z
LAST-MODIFIED:20220228T123742Z
UID:4369-1647543600-1647547200@iamcharliwall.com
SUMMARY:Rachel Singleton Interview
DESCRIPTION:  \n  \n  \n  \n  \n  \n  \n  \nFor the last 20+ years\, Rachel has been working with people from all around the world to help them reconnect their outer lives to their inner wisdom. \nShe first came to holistic therapies in her early 20s\, needing to find a solution to my own chronic health problems.\nRachel suffered from IBS\, malabsorption\, chronic fatigue\, and colitis.\nFor years\, she sought answers from the mountain of information and misinformation there is around health.\nThough arduous at times\, this whole journey gave her a unique perspective: not only did it enable her to experience first-hand how incredibly challenging chronic illness is\, it also sent her looking for deep and reliable answers regarding how we recover and sustain health and happiness.\n​\nFor Rachel\, the real shift happened when she realized that she was seeking a different kind of information: information that was actually inside me\, uniquely available to me moment-by-moment and borne out of my individual circumstances\, constitution\, background\, and needs.\nWith the support of flower essences\, natural therapies\, and holistic practices\, and with a profound understanding of consciousness known as the Three Principles\, she attuned to this inner ‘health sense’.\nRachel is one of my teachers on my 9-month Holistic Healer Training (alongside Ian Watson who has also been our guest coach\, and a guest on my podcast)\nI think she is INCREDIBLE! \nhttps://www.rachelsingleton.com/about
URL:https://iamcharliwall.com/event/rachel-singleton-interview/
CATEGORIES:Interviews
END:VEVENT
BEGIN:VEVENT
DTSTART;TZID=Europe/London:20220314T200000
DTEND;TZID=Europe/London:20220314T210000
DTSTAMP:20260420T132815
CREATED:20220228T010011Z
LAST-MODIFIED:20220228T010011Z
UID:4491-1647288000-1647291600@iamcharliwall.com
SUMMARY:March guest coach: Sarah Tyers
DESCRIPTION:Recently\, as part of Anna’s 3p Coaching course with Rachel Singleton and Ian Watson – they experienced coaching with a woman called Sarah Tyers.\n\nAnna told me about Sarah\, and I just knew I had to ask her to be our Circle guest coach.\n\nHere is a little it about Sarah:\n\nJust over four years ago I was suicidal.\n\nI couldn’t feel love for my daughter and I couldn’t fight for my life.\n\nI had a deep knowing that life could be joyful and full of love\, but it evaded me.\n\nIt took a stage four cancer diagnosis for me to look in a different direction.\n\nWhen I did\, I understood deeply that we are living in the experience of our thinking\, and that there is so much more available to us.\n\nThen as I lived through what looked like the hardest times\, I felt connected to myself and more vital than I ever had.\n\nThis experience and my understanding of the Three Principles enables me to coach others into reconnecting with and living more fully from their own wellbeing.\n\nTo create and embrace their lives from that place – whatever their circumstances.\n\nSarah’s website is www.freefromtherhetoric.com\n\nI hope you will join us
URL:https://iamcharliwall.com/event/march-guest-coach-sarah-tyers/
CATEGORIES:Interviews
ATTACH;FMTTYPE=image/jpeg:https://iamcharliwall.com/wp-content/uploads/2022/02/Sarah-tyers.jpg
END:VEVENT
BEGIN:VEVENT
DTSTART;TZID=Europe/London:20220310T100000
DTEND;TZID=Europe/London:20220310T210000
DTSTAMP:20260420T132815
CREATED:20220228T005256Z
LAST-MODIFIED:20220228T005256Z
UID:4489-1646906400-1646946000@iamcharliwall.com
SUMMARY:ASK ME ANYTHING
DESCRIPTION:ASK ME ANYTHING – Questions to be sent to me prior to the live AMA\, please. Either via WhatsApp or FB thread. If you are sending me a Qu privately\, please let me know if you want to remain anonymous \n\nLove\, Charli x
URL:https://iamcharliwall.com/event/ask-me-anything-32/
CATEGORIES:Ask me anything
END:VEVENT
BEGIN:VEVENT
DTSTART;TZID=Europe/London:20220302T193000
DTEND;TZID=Europe/London:20220302T203000
DTSTAMP:20260420T132815
CREATED:20220228T004748Z
LAST-MODIFIED:20220228T004748Z
UID:4486-1646249400-1646253000@iamcharliwall.com
SUMMARY:Podcast chat with Jason Shiers
DESCRIPTION:This episode of Courage Dear Heart will go live in the main free group\, newly named ‘The Freedom Group’ aka – she finds freedom from habits\, self-loathing & Anxiety’ \n\nThe episode will be called\, “Experience more happiness\, joy\, contentment\, regardless of how bad you think life is”\n\nJason has been a guest of ours twice\, and he is a dear friend of mine.\n\nWe share our experiences of coming through grief\, trauma\, and addictions.\n\nWith love\,\nCharli x
URL:https://iamcharliwall.com/event/podcast-chat-with-jason-shiers/
CATEGORIES:Interviews
ATTACH;FMTTYPE=image/jpeg:https://iamcharliwall.com/wp-content/uploads/2022/02/Jason-Shiers.jpg
END:VEVENT
BEGIN:VEVENT
DTSTART;TZID=Europe/London:20220221T190000
DTEND;TZID=Europe/London:20220221T203000
DTSTAMP:20260420T132815
CREATED:20220131T173508Z
LAST-MODIFIED:20220131T173508Z
UID:4451-1645470000-1645475400@iamcharliwall.com
SUMMARY:Masterclass: Breath work with Nikki Edyvane
DESCRIPTION:Nikki is back this month to deliver a masterclass on the importance of breath work –> https://heal.com.pt/breathwork\n\nI hope you can join us live.\n\n7-8.30pm\n\nhttps://us02web.zoom.us/j/88343348231
URL:https://iamcharliwall.com/event/masterclass-breath-work-with-nikki-edyvane/
CATEGORIES:Masterclass
END:VEVENT
BEGIN:VEVENT
DTSTART;TZID=Europe/London:20220215T090000
DTEND;TZID=Europe/London:20220215T100000
DTSTAMP:20260420T132815
CREATED:20220131T172831Z
LAST-MODIFIED:20220131T172831Z
UID:4449-1644915600-1644919200@iamcharliwall.com
SUMMARY:ASK ME ANYTHING
DESCRIPTION:ASK ME ANYTHING – Livestreamed into this group\, questions please prior to the live either on FB or privately on WhatsApp xx
URL:https://iamcharliwall.com/event/ask-me-anything-31/
CATEGORIES:Ask me anything
END:VEVENT
BEGIN:VEVENT
DTSTART;TZID=Europe/London:20220207T193000
DTEND;TZID=Europe/London:20220207T203000
DTSTAMP:20260420T132815
CREATED:20220131T172449Z
LAST-MODIFIED:20220201T072558Z
UID:4447-1644262200-1644265800@iamcharliwall.com
SUMMARY:Guest Coach: Andrew McKee
DESCRIPTION:Andrew Mckee is someone who has ADHD and was a guest on Elizabeth Lovius & Dr Bill’s part 4 Neurodivergency series. \nMore info to follow. \n7.30pm on the 7th Feb (Monday) \nhttps://us02web.zoom.us/j/83705696128
URL:https://iamcharliwall.com/event/guest-coach-andrew-mckee/
CATEGORIES:Interviews
END:VEVENT
BEGIN:VEVENT
DTSTART;TZID=Europe/London:20220202T190000
DTEND;TZID=Europe/London:20220202T203000
DTSTAMP:20260420T132815
CREATED:20220131T172215Z
LAST-MODIFIED:20220201T072432Z
UID:4445-1643828400-1643833800@iamcharliwall.com
SUMMARY:February Group Coaching with me
DESCRIPTION:February Group Coaching with me \nhttps://us02web.zoom.us/j/81271467860
URL:https://iamcharliwall.com/event/february-group-coaching-with-me/
CATEGORIES:Group Calls
END:VEVENT
BEGIN:VEVENT
DTSTART;TZID=Europe/London:20220131T180000
DTEND;TZID=Europe/London:20220131T190000
DTSTAMP:20260420T132815
CREATED:20220105T115900Z
LAST-MODIFIED:20220105T115900Z
UID:4421-1643652000-1643655600@iamcharliwall.com
SUMMARY:Michael Neil Interview
DESCRIPTION:
URL:https://iamcharliwall.com/event/michael-neil-interview/
CATEGORIES:Interviews
END:VEVENT
BEGIN:VEVENT
DTSTART;TZID=Europe/London:20220125T190000
DTEND;TZID=Europe/London:20220125T200000
DTSTAMP:20260420T132815
CREATED:20220105T115042Z
LAST-MODIFIED:20220124T105540Z
UID:4417-1643137200-1643140800@iamcharliwall.com
SUMMARY:Endocannaboinoid System - Masterclass
DESCRIPTION:This was last month’s popular choice:\n\nThe Endocannabinoid System\n\nThe endocannabinoid system is a molecular system responsible for regulating and balancing many processes in the body\, including immune response\, communication between cells\, appetite and metabolism\, memory\, and more.\n\nWe will be taking a brief overlook of this very complex\, but rather marvellous body system.\n\nBring your pens obvs 
URL:https://iamcharliwall.com/event/endocannaboinoid-system-masterclass/
CATEGORIES:Masterclass
END:VEVENT
BEGIN:VEVENT
DTSTART;TZID=Europe/London:20220117T190000
DTEND;TZID=Europe/London:20220117T200000
DTSTAMP:20260420T132815
CREATED:20220105T112022Z
LAST-MODIFIED:20220105T112022Z
UID:4410-1642446000-1642449600@iamcharliwall.com
SUMMARY:Joe Bailey - January guest
DESCRIPTION:We are VERY lucky to have Joe Bailey as our January guest – please have a watch\, read\, and listen to his website here\nhttps://www.joebaileyandassociates.com and first met Syd in 1980 where he worked in the ADDICTIONS field\nhttps://youtu.be/AC4o_-x_3K4\nSo he was directly trained under Syd Banks.\nHe has just written his second book called\, ‘THRIVING IN THE EYE OF THE HURRICANE’ which you can find in all good bookstores \nThis will be a goodie x
URL:https://iamcharliwall.com/event/joe-bailey-january-guest/
CATEGORIES:Interviews
END:VEVENT
BEGIN:VEVENT
DTSTART;TZID=Europe/London:20220112T123000
DTEND;TZID=Europe/London:20220112T133000
DTSTAMP:20260420T132815
CREATED:20220105T113113Z
LAST-MODIFIED:20220105T115148Z
UID:4415-1641990600-1641994200@iamcharliwall.com
SUMMARY:Ask Me Anything
DESCRIPTION:Ask Me Anything will be LIVE in this group at 12.30pm on Tuesday the 18th of January – Please send questions to me prior to the AMA\n\nThank you x
URL:https://iamcharliwall.com/event/ask-me-anything-30/
CATEGORIES:Ask me anything
END:VEVENT
BEGIN:VEVENT
DTSTART;TZID=Europe/London:20220111T190000
DTEND;TZID=Europe/London:20220111T203000
DTSTAMP:20260420T132815
CREATED:20220105T112706Z
LAST-MODIFIED:20220105T112706Z
UID:4413-1641927600-1641933000@iamcharliwall.com
SUMMARY:Part 4 Neurodiversity: The ADHD and Dys(lexic etc) Brain - stories of Hope & Live Q&A
DESCRIPTION:In Neurodiversity Part 4\, Elizabeth Lovius and Dr Bill will explore ADHD and Dys(lexic etc) Brain – stories of Hope & Live Q&A:\n\nIn Neurodiversity 2 we will cover:\n– Real-Life Stories of hope for real change\n– LIVE Q&A\n\nSubmit your questions in advance to: eloiza@wisdomandwellbeing.co.uk\n\nWisdom and Wellbeing are extending a special invitation to those in the Real Change Community who so loved the original Dr. Bill Real Change LIVE series.\n\nRegistration means we will also send you the recording.\n\nYou can share these links for registration with anyone you feel may benefit who has already been impacted by the Inside-Out understanding/Three Principles.\n\nBy registering for this event you agree to be added to our list and contacted by the Wisdom and Wellbeing Consultancy. You may unsubscribe at any time.\n\nRegister here: https://zoom.us/…/tJcqdOGgqz4vG9KjD9kV8ufJiZTfwTHeHOoL
URL:https://iamcharliwall.com/event/part-4-neurodiversity-the-adhd-and-dyslexic-etc-brain-stories-of-hope-live-qa/
CATEGORIES:Masterclass
END:VEVENT
BEGIN:VEVENT
DTSTART;TZID=Europe/London:20220107T123000
DTEND;TZID=Europe/London:20220107T133000
DTSTAMP:20260420T132815
CREATED:20220105T111427Z
LAST-MODIFIED:20220105T111427Z
UID:4408-1641558600-1641562200@iamcharliwall.com
SUMMARY:January Group Coaching with me
DESCRIPTION:It has been AGES (or it feels like it) since our December group coaching\, so this is why I am doing this first this month – holding a circle space for you ladies who can make a daytime slot 12.30 pm\n\nMuch love x
URL:https://iamcharliwall.com/event/january-group-coaching-with-me/
CATEGORIES:Group Calls
END:VEVENT
BEGIN:VEVENT
DTSTART;TZID=Europe/London:20220104T190000
DTEND;TZID=Europe/London:20220104T203000
DTSTAMP:20260420T132815
CREATED:20220105T110529Z
LAST-MODIFIED:20220105T110529Z
UID:4406-1641322800-1641328200@iamcharliwall.com
SUMMARY:Neurodiversity Masterclass 3: The ADHD and Dys(lexic etc) Brain - and the hope of universal Mind
DESCRIPTION:We asked Dr. Bill Pettit to speak to our Wisdom and Wellbeing members on Neurodiversity as this is a hot topic right now – and he said yes! Dr. Bill will talk to us in another TWO WEBINARS about Neurodiversity!\nIn Neurodiversity Masterclass Part 3 Elizabeth Lovius and Dr Bill will explore: The ADHD and Dys(lexic etc) Brain – and the hope of universal Mind\n\nIn this session we will cover:\n– What is Neurodiversity?\n– What is the difference between the Brain and Mind?\n– What does it mean to have a diagnosis of ADHD – Dys (lexia/praxia etc)? What are the gifts and limits?\n– Where does peace of mind and hope lie?\n– What impact does a deeper understanding of the Universal Mind have on these diagnoses?\n\nAnd for your information as a special one-off\, we are also extending a special invitation to those in the Real Change Community who so loved the original Dr. Bill Real Change LIVE series.\n\nYou can share these links for registration with anyone you feel may benefit who has already been impacted by the Inside-Out understanding/Three Principles.\n\nBy registering for this event you agree to be added to our list and contacted by the Wisdom and Wellbeing Consultancy. You may unsubscribe at any time.\n\nRegister here:\nhttps://zoom.us/…/tJYpcu-vrD4tH9LO5EfGuOojhIU7ou5uT8V5
URL:https://iamcharliwall.com/event/neurodiversity-masterclass-3-the-adhd-and-dyslexic-etc-brain-and-the-hope-of-universal-mind/
CATEGORIES:Masterclass
END:VEVENT
BEGIN:VEVENT
DTSTART;TZID=Europe/London:20211221T190000
DTEND;TZID=Europe/London:20211221T201500
DTSTAMP:20260420T132815
CREATED:20211201T050027Z
LAST-MODIFIED:20211201T050027Z
UID:4398-1640113200-1640117700@iamcharliwall.com
SUMMARY:Neuro-diversity Part 2: ADHD - Dys (lexia/praxia etc) - understanding the Brain and the hope of Universal Mind
DESCRIPTION:We asked Dr. Bill Pettit to speak to our Wisdom and Wellbeing members on Neurodiversity as this is a hot topic right now – and he said yes! Dr. Bill will talk to us in TWO WEBINARS about Neurodiversity! \nIn Part 2 Elizabeth Lovius and Dr Bill will explore: ADHD – Dys (lexia/praxia etc) – understanding the Brain and the hope of Universal Mind \nIn this session we will cover:\n– What is Neurodiversity?\n– What is the difference between the Brain and Mind?\n– What does it mean to have a diagnosis of ADHD – Dys (lexia/praxia etc)? What are the gifts and limits?\n– Where does hope lie with a diagnosis of ADHD – Dys (lexia/praxia etc)?\n– What impact does a deeper understanding of the Universal Mind have on these diagnoses?\n– Real-Life Stories of hope for real change\n– Q&A \nAnd for your information as a special one-off\, we are also extending a special invitation to those in the Real Change Community who so loved the original Dr. Bill Real Change LIVE series. \nYou can share these links for registration with anyone you feel may benefit who has already been impacted by the Inside-Out understanding/Three Principles. \nBy registering for this event you agree to be added to our list and contacted by the Wisdom and Wellbeing Consultancy. You may unsubscribe at any time. \nRegister here:\nhttps://zoom.us/meeting/register/tJcrdumrqz0sH9AJFPgc9ZHYiRsjDo1UBNO1
URL:https://iamcharliwall.com/event/neuro-diversity-part-2-adhd-dys-lexia-praxia-etc-understanding-the-brain-and-the-hope-of-universal-mind/
CATEGORIES:Masterclass
END:VEVENT
BEGIN:VEVENT
DTSTART;TZID=Europe/London:20211216T190000
DTEND;TZID=Europe/London:20211216T200000
DTSTAMP:20260420T132815
CREATED:20211201T050538Z
LAST-MODIFIED:20211201T050538Z
UID:4400-1639681200-1639684800@iamcharliwall.com
SUMMARY:Liz Scott - December Guest Coach
DESCRIPTION:Hi ladies. This month we have my colleague and friend\, Liz Scott as our December guest coach.\nShe and her husband (Stu Newberry who was our September guest coach) have set up a CIC – Community Interest Company in their local area (Ivybridge) to share the Principles.\n\nThey were both also mentors & teachers on the program that Elizabeth Lovius ran earlier this year which is how I met them.\n\nThis is their website https://innercompassguide.com/liz-and-stuart/\n\nThey also have a podcast on which I was a guest https://innercompassguide.com/podcast-45-the-wisdom-of…/\n\nHere is the link: https://us02web.zoom.us/j/81967490704\n\nHope to see you there x
URL:https://iamcharliwall.com/event/liz-scott-december-guest-coach/
CATEGORIES:Interviews
END:VEVENT
BEGIN:VEVENT
DTSTART;TZID=Europe/London:20211215T190000
DTEND;TZID=Europe/London:20211215T201500
DTSTAMP:20260420T132815
CREATED:20211201T045452Z
LAST-MODIFIED:20211201T045452Z
UID:4395-1639594800-1639599300@iamcharliwall.com
SUMMARY:Neuro-diversity Part 1: Autism - Aspergers - understanding the Brain and the hope of Universal Mind
DESCRIPTION:We asked Dr. Bill Pettit to speak to our Wisdom and Wellbeing members on Neurodiversity as this is a hot topic right now – and he said yes! Dr. Bill will talk to us in TWO WEBINARS about Neurodiversity! \nIn Part 1 Elizabeth Lovius and Dr Bill will explore: Autism – Aspergers – understanding the Brain and the hope of Universal Mind \nIn this session we will cover:\n– What is Neurodiversity?\n– What is the difference between the Brain and Mind?\n– What does it mean to have a diagnosis of Autism/Aspergers? What are the gifts and limits?\n– Where does hope lie with a diagnosis of Autism/Aspergers?\n– What impact does a deeper understanding of the Universal Mind have on these diagnoses?\n– Real-Life Stories of hope for real change\n– Q&A \nAnd for your information as a special one-off\, we are also extending a special invitation to those in the Real Change Community who so loved the original Dr. Bill Real Change LIVE series. \nYou can share these links for registration with anyone you feel may benefit who has already been impacted by the Inside-Out understanding/Three Principles. \nBy registering for this event you agree to be added to our list and contacted by the Wisdom and Wellbeing Consultancy. You may unsubscribe at any time. \nRegister here:\nhttps://zoom.us/meeting/register/tJMlc-2vrjIjGdCvdFaTZyWZeH_klSBxILyZ
URL:https://iamcharliwall.com/event/neuro-diversity-part-1-autism-aspergers-understanding-the-brain-and-the-hope-of-universal-mind/
CATEGORIES:Masterclass
END:VEVENT
BEGIN:VEVENT
DTSTART;TZID=Europe/London:20211208T190000
DTEND;TZID=Europe/London:20211208T200000
DTSTAMP:20260420T132815
CREATED:20211201T044657Z
LAST-MODIFIED:20211201T044657Z
UID:4393-1638990000-1638993600@iamcharliwall.com
SUMMARY:December Group Coaching Call
DESCRIPTION:December group coaching call will be an evening slot this month.\nWed 8th December at 7 pm\n\nhttps://us02web.zoom.us/j/89979001943
URL:https://iamcharliwall.com/event/december-group-coaching-call/
CATEGORIES:Group Calls
END:VEVENT
BEGIN:VEVENT
DTSTART;TZID=Europe/London:20211202T131500
DTEND;TZID=Europe/London:20211202T141500
DTSTAMP:20260420T132815
CREATED:20211201T044339Z
LAST-MODIFIED:20211201T044339Z
UID:4391-1638450900-1638454500@iamcharliwall.com
SUMMARY:Ask Me Anything
DESCRIPTION:Hello ladies. This is your chance to ASK ME ANYTHING and I will answer all your questions (sent to me beforehand) live on this group.\n\nLooking forward to this x
URL:https://iamcharliwall.com/event/ask-me-anything-29/
CATEGORIES:Ask me anything
END:VEVENT
BEGIN:VEVENT
DTSTART;TZID=Europe/London:20211126T150000
DTEND;TZID=Europe/London:20211126T160000
DTSTAMP:20260420T132815
CREATED:20211101T162720Z
LAST-MODIFIED:20211101T162720Z
UID:4378-1637938800-1637942400@iamcharliwall.com
SUMMARY:November Group Coaching
DESCRIPTION:Charli is inviting you to a scheduled Zoom meeting.\nTopic: Nov Group Coaching\nTime: Nov 26\, 2021 03:00 PM London\nJoin Zoom Meeting\nhttps://us02web.zoom.us/j/88606812342\nMeeting ID: 886 0681 2342\nOne tap mobile\n+12532158782\,\,88606812342# US (Tacoma)\n+13017158592\,\,88606812342# US (Washington DC)\nDial by your location\n+1 253 215 8782 US (Tacoma)\n+1 301 715 8592 US (Washington DC)\n+1 312 626 6799 US (Chicago)\n+1 346 248 7799 US (Houston)\n+1 669 900 6833 US (San Jose)\n+1 929 205 6099 US (New York)\nMeeting ID: 886 0681 2342\nFind your local number: https://us02web.zoom.us/u/kcpjxS5Mxg
URL:https://iamcharliwall.com/event/november-group-coaching/
CATEGORIES:Group Calls
END:VEVENT
BEGIN:VEVENT
DTSTART;TZID=Europe/London:20211124T190000
DTEND;TZID=Europe/London:20211124T200000
DTSTAMP:20260420T132815
CREATED:20211101T162057Z
LAST-MODIFIED:20211101T162057Z
UID:4376-1637780400-1637784000@iamcharliwall.com
SUMMARY:Masterclass: Changing Habits & Behaviours
DESCRIPTION:https://us02web.zoom.us/j/86156583905
URL:https://iamcharliwall.com/event/masterclass-changing-habits-behaviours/
CATEGORIES:Masterclass
END:VEVENT
BEGIN:VEVENT
DTSTART;TZID=Europe/London:20211115T160000
DTEND;TZID=Europe/London:20211118T100000
DTSTAMP:20260420T132815
CREATED:20210901T035444Z
LAST-MODIFIED:20211101T161431Z
UID:4289-1636992000-1637229600@iamcharliwall.com
SUMMARY:November Reset Retreat
DESCRIPTION:Hi Circle Sisters\, \nThis retreat offer is only open for you ladies\, as I am offering all of you a small discount on my November retreat to be held at West Lexham. \nThis means this offer will not be on my website\, nor open to any of the free groups\, AND I am opening up the spaces for you FIRST. \nYou have the choice between sharing a room with 2 of you\, or having a single room (which will be more expensive) \nAll the rooms have an en-suite bathroom\, and for an extra £35 you can bring your dog with you for the duration (if you are sharing a room\, please make sure you tell me and we will ask your roommate if that is ok) \nI have 15 x Spaces \nPrice includes accommodation and all food\, which is vegan and can be catered for all dietary requirements. \nMy plan is to create a safe\, peaceful space. \nYoga/ exercise will be optional. \nI will provide 1 x 1:1 coaching\, a group workshop(s) (One with Elizabeth Lovius) and there will be a massage therapist on-site for us at an extra cost. \nIt would be an amazing opportunity for the circle sisters to meet in person\, and I will really look forward to sharing a real-life space with you. \nIf you want one of these spaces\, I would encourage you to let me know and we can sort out a bank transfer before it goes on my website\, and to the rest of the world 🙂 \nIf you would like to chat about it\, send me a message asap. \nLove\, Charli xxx \nps. The cover picture was taken by my client this weekend who was there for a weekend 1:1 with me 🙂
URL:https://iamcharliwall.com/event/november-reset-retreat/
CATEGORIES:retreat
END:VEVENT
BEGIN:VEVENT
DTSTART;TZID=Europe/London:20211103T113000
DTEND;TZID=Europe/London:20211103T123000
DTSTAMP:20260420T132815
CREATED:20211101T155412Z
LAST-MODIFIED:20211101T155412Z
UID:4367-1635939000-1635942600@iamcharliwall.com
SUMMARY:Ask Me Anything
DESCRIPTION:I will be coming onto the group LIVE at 11.30am to answer ALL your questions  \nLots of love x
URL:https://iamcharliwall.com/event/ask-me-anything-28/
CATEGORIES:Ask me anything
END:VEVENT
BEGIN:VEVENT
DTSTART;TZID=Europe/London:20211027T190000
DTEND;TZID=Europe/London:20211027T203000
DTSTAMP:20260420T132815
CREATED:20210930T234309Z
LAST-MODIFIED:20210930T234309Z
UID:4311-1635361200-1635366600@iamcharliwall.com
SUMMARY:GUT HEALTH MASTERCLASS
DESCRIPTION:A clear winner for this month’s masterclass \nBring your notebooks & questions for this one \nhttps://us02web.zoom.us/j/88549986377
URL:https://iamcharliwall.com/event/gut-health-masterclass/
CATEGORIES:Masterclass
END:VEVENT
BEGIN:VEVENT
DTSTART;TZID=Europe/London:20211019T193000
DTEND;TZID=Europe/London:20211019T203000
DTSTAMP:20260420T132815
CREATED:20210930T233610Z
LAST-MODIFIED:20210930T233610Z
UID:4308-1634671800-1634675400@iamcharliwall.com
SUMMARY:October Guest: Jacquie Moses
DESCRIPTION:Jacquie has extensive experience in designing and facilitating programs for business\, education\, back to work and the criminal justice system. \nShe coaches and mentors people to achieve deeper levels of wellbeing\, resilience and results. \nJacquie is a regular speaker on wellbeing at International Conferences. \nWith 20+ years experience\, working with over 3000+ people; Jacquie has worked in a variety of diverse settings; with executives\, entrepreneurs\, leaders\, managers\, young people\, charities\, schools\, prisons and the community sector. \nIn her quest to do work that is truly transformational\, Jacquie has been one of the first to train and mentor with many pioneers in the 3p field; Coach-U’s inaugural program\, Landmark Education\, Dr Aaron Turner\, Linda Pransky and Dicken Bettinger Ed.D. \n  \nShe was a lead facilitator in a UK prison\, where she facilitated weekly wellbeing groups\, one to one sessions and has trained prisoners as peer facilitators. \nThe results of this program led to individuals having life changing insights that have created sustainable change in the way they think\, behave\, handle their addictions and prison life. \nPublished academic research from her extensive work in the criminal justice system\, showed:\n• significant increases in wellbeing and positive outlook on life\n• significant reduction in self harm\, conflict\, violence\, challenging behaviour and re-offending \nI hope you will join me for what will be a BRILLIANT hour. \nThis is a recent podcast that Jacquie was interviewed for by Rohini Ross (and her hubbie) who has also been one of our guest coaches. \nLove\, Charli x
URL:https://iamcharliwall.com/event/october-guest-jacquie-moses/
CATEGORIES:Interviews
END:VEVENT
BEGIN:VEVENT
DTSTART;TZID=Europe/London:20211013T190000
DTEND;TZID=Europe/London:20211013T203000
DTSTAMP:20260420T132815
CREATED:20210930T232257Z
LAST-MODIFIED:20210930T232257Z
UID:4306-1634151600-1634157000@iamcharliwall.com
SUMMARY:October Group Coaching Call
DESCRIPTION:Your chance to get group coaching with me \n90 mins\nhttps://us02web.zoom.us/j/84030633431
URL:https://iamcharliwall.com/event/october-group-coaching-call/
CATEGORIES:Group Calls
END:VEVENT
BEGIN:VEVENT
DTSTART;TZID=Europe/London:20211005T143000
DTEND;TZID=Europe/London:20211005T153000
DTSTAMP:20260420T132815
CREATED:20210930T231835Z
LAST-MODIFIED:20210930T231835Z
UID:4304-1633444200-1633447800@iamcharliwall.com
SUMMARY:Ask Me Anything
DESCRIPTION:Your chance to literally ASK ME ANYTHING – Questions needed prior to the LIVE on this group\, can either be sent via WhatsApp 07545284928 OR on the thread in this group when I remind you that this is upcoming.
URL:https://iamcharliwall.com/event/ask-me-anything-27/
CATEGORIES:Ask me anything
END:VEVENT
BEGIN:VEVENT
DTSTART;TZID=Europe/London:20210928T130000
DTEND;TZID=Europe/London:20210928T140000
DTSTAMP:20260420T132815
CREATED:20210901T034950Z
LAST-MODIFIED:20210901T034950Z
UID:4286-1632834000-1632837600@iamcharliwall.com
SUMMARY:September guest coach: Stu Newberry
DESCRIPTION:Guest Coach Stu Newberry\, more info coming.\n28th at 1pm\nhttps://us02web.zoom.us/j/88236927538\n\nSee you there!\n\nLove\, Charli x
URL:https://iamcharliwall.com/event/september-guest-coach-stu-newberry/
CATEGORIES:Interviews
END:VEVENT
END:VCALENDAR