BEGIN:VCALENDAR
VERSION:2.0
PRODID:-//Charli Wall - ECPv6.15.17//NONSGML v1.0//EN
CALSCALE:GREGORIAN
METHOD:PUBLISH
X-WR-CALNAME:Charli Wall
X-ORIGINAL-URL:https://iamcharliwall.com
X-WR-CALDESC:Events for Charli Wall
REFRESH-INTERVAL;VALUE=DURATION:PT1H
X-Robots-Tag:noindex
X-PUBLISHED-TTL:PT1H
BEGIN:VTIMEZONE
TZID:Europe/London
BEGIN:DAYLIGHT
TZOFFSETFROM:+0000
TZOFFSETTO:+0100
TZNAME:BST
DTSTART:20210328T010000
END:DAYLIGHT
BEGIN:STANDARD
TZOFFSETFROM:+0100
TZOFFSETTO:+0000
TZNAME:GMT
DTSTART:20211031T010000
END:STANDARD
BEGIN:DAYLIGHT
TZOFFSETFROM:+0000
TZOFFSETTO:+0100
TZNAME:BST
DTSTART:20220327T010000
END:DAYLIGHT
BEGIN:STANDARD
TZOFFSETFROM:+0100
TZOFFSETTO:+0000
TZNAME:GMT
DTSTART:20221030T010000
END:STANDARD
BEGIN:DAYLIGHT
TZOFFSETFROM:+0000
TZOFFSETTO:+0100
TZNAME:BST
DTSTART:20230326T010000
END:DAYLIGHT
BEGIN:STANDARD
TZOFFSETFROM:+0100
TZOFFSETTO:+0000
TZNAME:GMT
DTSTART:20231029T010000
END:STANDARD
END:VTIMEZONE
BEGIN:VEVENT
DTSTART;TZID=Europe/London:20221201T134500
DTEND;TZID=Europe/London:20221201T144500
DTSTAMP:20260420T103832
CREATED:20221201T065351Z
LAST-MODIFIED:20221201T065351Z
UID:4897-1669902300-1669905900@iamcharliwall.com
SUMMARY:December Daytime Group Coaching Call
DESCRIPTION:December Daytime Group Coaching Call\nScheduled: 1 Dec 2022 at 13:45 to 14:45\, GMT\nLocation: https://us02web.zoom.us/j/89794967334 \nSee you\, Ladies xx
URL:https://iamcharliwall.com/event/december-daytime-group-coaching-call/
LOCATION:Zoom
CATEGORIES:Group Calls
ATTACH;FMTTYPE=image/jpeg:https://iamcharliwall.com/wp-content/uploads/2022/07/293030709_10160300262042146_2938597938622776363_n.jpg
END:VEVENT
BEGIN:VEVENT
DTSTART;TZID=Europe/London:20221128T140000
DTEND;TZID=Europe/London:20221128T150000
DTSTAMP:20260420T103832
CREATED:20221031T155334Z
LAST-MODIFIED:20221031T155334Z
UID:4844-1669644000-1669647600@iamcharliwall.com
SUMMARY:Ask Me Anything
DESCRIPTION:
URL:https://iamcharliwall.com/event/ask-me-anything-40/
CATEGORIES:Ask me anything
ATTACH;FMTTYPE=image/jpeg:https://iamcharliwall.com/wp-content/uploads/2022/08/AMA.jpg
END:VEVENT
BEGIN:VEVENT
DTSTART;TZID=Europe/London:20221125T113000
DTEND;TZID=Europe/London:20221125T123000
DTSTAMP:20260420T103832
CREATED:20221031T155117Z
LAST-MODIFIED:20221031T155117Z
UID:4842-1669375800-1669379400@iamcharliwall.com
SUMMARY:Nov Daytime Group Coaching Call
DESCRIPTION:
URL:https://iamcharliwall.com/event/nov-daytime-group-coaching-call/
CATEGORIES:Group Calls
ATTACH;FMTTYPE=image/jpeg:https://iamcharliwall.com/wp-content/uploads/2022/07/293030709_10160300262042146_2938597938622776363_n.jpg
END:VEVENT
BEGIN:VEVENT
DTSTART;VALUE=DATE:20221117
DTEND;VALUE=DATE:20221123
DTSTAMP:20260420T103832
CREATED:20221031T155532Z
LAST-MODIFIED:20221031T155627Z
UID:4846-1668643200-1669161599@iamcharliwall.com
SUMMARY:Charli is Away
DESCRIPTION:
URL:https://iamcharliwall.com/event/charli-is-away/
END:VEVENT
BEGIN:VEVENT
DTSTART;TZID=Europe/London:20221115T190000
DTEND;TZID=Europe/London:20221115T200000
DTSTAMP:20260420T103832
CREATED:20221031T154652Z
LAST-MODIFIED:20221031T154652Z
UID:4840-1668538800-1668542400@iamcharliwall.com
SUMMARY:November Evening Group Coaching Call
DESCRIPTION:
URL:https://iamcharliwall.com/event/november-evening-group-coaching-call/
CATEGORIES:Group Calls
ATTACH;FMTTYPE=image/jpeg:https://iamcharliwall.com/wp-content/uploads/2022/07/293030709_10160300262042146_2938597938622776363_n.jpg
END:VEVENT
BEGIN:VEVENT
DTSTART;TZID=Europe/London:20221108T190000
DTEND;TZID=Europe/London:20221108T200000
DTSTAMP:20260420T103832
CREATED:20221031T154441Z
LAST-MODIFIED:20221031T154441Z
UID:4837-1667934000-1667937600@iamcharliwall.com
SUMMARY:November Guest Coach: Stef Cybichowski
DESCRIPTION:Our gorgeous Stef has agreed to come back and be my podcast guest  And then come and talk to you lovely ladies.\n\nIf you haven’t seen Stef’s talk previously – here it is https://www.facebook.com/531617145/videos/10158680412422146/\n\nWe love him!!!\n\nI hope you can make it live.\n\n\nLove\, Charli x
URL:https://iamcharliwall.com/event/november-guest-coach-stef-cybichowski/
CATEGORIES:Interviews
ATTACH;FMTTYPE=image/jpeg:https://iamcharliwall.com/wp-content/uploads/2022/10/Stef-Cybichowski.jpg
END:VEVENT
BEGIN:VEVENT
DTSTART;TZID=Europe/London:20221028T103000
DTEND;TZID=Europe/London:20221028T233000
DTSTAMP:20260420T103832
CREATED:20221003T032517Z
LAST-MODIFIED:20221003T032517Z
UID:4800-1666953000-1666999800@iamcharliwall.com
SUMMARY:October Daytime Coaching Call
DESCRIPTION:October Daytime Coaching Call 10.30am\n\nhttps://us02web.zoom.us/j/82860270720
URL:https://iamcharliwall.com/event/october-daytime-coaching-call/
LOCATION:Zoom
CATEGORIES:Group Calls
ATTACH;FMTTYPE=image/jpeg:https://iamcharliwall.com/wp-content/uploads/2022/07/293030709_10160300262042146_2938597938622776363_n.jpg
END:VEVENT
BEGIN:VEVENT
DTSTART;TZID=Europe/London:20221025T190000
DTEND;TZID=Europe/London:20221025T203000
DTSTAMP:20260420T103832
CREATED:20221003T032248Z
LAST-MODIFIED:20221003T032348Z
UID:4797-1666724400-1666729800@iamcharliwall.com
SUMMARY:Live podcast HERE in this group\, and live coaching from Jan & Chip Chipman
DESCRIPTION:Hi ladies\, this month\, I will be interviewing Jan & Chip Chipman for my podcast live in THIS GROUP only – you will be invited from the start\, and then once the podcast has finished we will open it up for questions with you all.\n\n7 pm\, Tuesday 25th October \n\nIf you haven’t watched the recording of me being coached by them yet\, I would highly recommend watching that.\n\nMuch love xx\n\nhttps://www.vantageconsult.com/about-us/
URL:https://iamcharliwall.com/event/live-podcast-here-in-this-group-and-live-coaching-from-jan-chip-chipman/
LOCATION:Zoom
CATEGORIES:Interviews
ATTACH;FMTTYPE=image/jpeg:https://iamcharliwall.com/wp-content/uploads/2022/10/Jan-and-Chip.jpg
END:VEVENT
BEGIN:VEVENT
DTSTART;TZID=Europe/London:20221018T123000
DTEND;TZID=Europe/London:20221018T133000
DTSTAMP:20260420T103832
CREATED:20221003T031923Z
LAST-MODIFIED:20221003T031923Z
UID:4795-1666096200-1666099800@iamcharliwall.com
SUMMARY:ASK ME ANYTHING
DESCRIPTION:ASK ME ANYTHING – live in this group at 12.30pm Tuesday 18th October.\n\nPlease send all questions to me in advance xx
URL:https://iamcharliwall.com/event/ask-me-anything-39/
CATEGORIES:Ask me anything
ATTACH;FMTTYPE=image/jpeg:https://iamcharliwall.com/wp-content/uploads/2022/08/AMA.jpg
END:VEVENT
BEGIN:VEVENT
DTSTART;TZID=Europe/London:20221004T193000
DTEND;TZID=Europe/London:20221004T203000
DTSTAMP:20260420T103832
CREATED:20221003T030820Z
LAST-MODIFIED:20221003T030820Z
UID:4793-1664911800-1664915400@iamcharliwall.com
SUMMARY:October Eve Group Coaching Call
DESCRIPTION:October eve group coaching call 7.30-8.30pm\nhttps://us02web.zoom.us/j/81690257354
URL:https://iamcharliwall.com/event/october-eve-group-coaching-call/
CATEGORIES:Group Calls
ATTACH;FMTTYPE=image/jpeg:https://iamcharliwall.com/wp-content/uploads/2022/07/292759278_10160300249597146_5332592940661985140_n.jpg
END:VEVENT
BEGIN:VEVENT
DTSTART;TZID=Europe/London:20220930T103000
DTEND;TZID=Europe/London:20220930T113000
DTSTAMP:20260420T103832
CREATED:20220901T160050Z
LAST-MODIFIED:20220901T160136Z
UID:4771-1664533800-1664537400@iamcharliwall.com
SUMMARY:September Daytime Coaching Call
DESCRIPTION:Sept daytime coaching call 10.30am
URL:https://iamcharliwall.com/event/september-daytime-coaching-call-2/
CATEGORIES:Group Calls
ATTACH;FMTTYPE=image/jpeg:https://iamcharliwall.com/wp-content/uploads/2022/07/293030709_10160300262042146_2938597938622776363_n.jpg
END:VEVENT
BEGIN:VEVENT
DTSTART;TZID=Europe/London:20220920T193000
DTEND;TZID=Europe/London:20220920T203000
DTSTAMP:20260420T103832
CREATED:20220901T155729Z
LAST-MODIFIED:20220901T155729Z
UID:4768-1663702200-1663705800@iamcharliwall.com
SUMMARY:September Guest Coach: Jacquie Moses
DESCRIPTION:I have invited Jacquie Moses to be our guest this month\, and I will be doing it in the same style as our last month’s coach\, where I will interview her for my podcast live on the ‘Freedom Group’\, then give you ladies the link so you can all join the conversation. \nThis *may* be the last time I do it like this \nJacquie has extensive experience in designing and facilitating programs for business\, education\, back to work and the criminal justice system. \nShe coaches and mentors people to achieve deeper levels of wellbeing\, resilience and results. \nJacquie is a regular speaker on wellbeing at International Conferences. \nWith 20+ years experience\, working with over 3000+ people; Jacquie has worked in a variety of diverse settings; with executives\, entrepreneurs\, leaders\, managers\, young people\, charities\, schools\, prisons and the community sector. \nIn her quest to do work that is truly transformational\, Jacquie has been one of the first to train and mentor with many pioneers in the 3p field; Coach-U’s inaugural program\, Landmark Education\, Dr Aaron Turner\, Linda Pransky and Dicken Bettinger Ed.D. \nShe was a lead facilitator in a UK prison\, where she facilitated weekly wellbeing groups\, one to one sessions and has trained prisoners as peer facilitators. \nThe results of this program led to individuals having life changing insights that have created sustainable change in the way they think\, behave\, handle their addictions and prison life. \nPublished academic research from her extensive work in the criminal justice system\, showed:\n• significant increases in wellbeing and positive outlook on life\n• significant reduction in self harm\, conflict\, violence\, challenging behaviour and re-offending \nI hope you will join me for what will be a BRILLIANT hour. \nPlease note\, you have the Zoom link attached\, but I won’t be able to let you in until I have completed the podcast interview. \nIf you want to listen to Jacquie\, you will find her previous guest coaching slot via this link: https://www.facebook.com/531617145/videos/927808724820367/
URL:https://iamcharliwall.com/event/september-guest-coach-jacquie-moses/
CATEGORIES:Interviews
ATTACH;FMTTYPE=image/jpeg:https://iamcharliwall.com/wp-content/uploads/2022/09/Jacquie.jpg
END:VEVENT
BEGIN:VEVENT
DTSTART;TZID=Europe/London:20220912T193000
DTEND;TZID=Europe/London:20220912T203000
DTSTAMP:20260420T103832
CREATED:20220901T155228Z
LAST-MODIFIED:20220901T155228Z
UID:4765-1663011000-1663014600@iamcharliwall.com
SUMMARY:ASK ME ANYTHING
DESCRIPTION:ASK ME ANYTHING at all.. 7.30pm UK time\, live in this group. Send questions to me before hand pls x
URL:https://iamcharliwall.com/event/ask-me-anything-38/
CATEGORIES:Ask me anything
ATTACH;FMTTYPE=image/jpeg:https://iamcharliwall.com/wp-content/uploads/2022/08/AMA.jpg
END:VEVENT
BEGIN:VEVENT
DTSTART;TZID=Europe/London:20220905T193000
DTEND;TZID=Europe/London:20220905T203000
DTSTAMP:20260420T103832
CREATED:20220901T155005Z
LAST-MODIFIED:20220901T232847Z
UID:4763-1662406200-1662409800@iamcharliwall.com
SUMMARY:September Evening Group Call
DESCRIPTION:Sept daytime coaching call 10.30am
URL:https://iamcharliwall.com/event/september-daytime-coaching-call/
CATEGORIES:Group Calls
ATTACH;FMTTYPE=image/jpeg:https://iamcharliwall.com/wp-content/uploads/2022/07/293030709_10160300262042146_2938597938622776363_n.jpg
END:VEVENT
BEGIN:VEVENT
DTSTART;TZID=Europe/London:20220830T110000
DTEND;TZID=Europe/London:20220830T120000
DTSTAMP:20260420T103832
CREATED:20220801T075445Z
LAST-MODIFIED:20220801T075445Z
UID:4754-1661857200-1661860800@iamcharliwall.com
SUMMARY:ASK ME ANYTHING
DESCRIPTION:ASK ME ANYTHING at all  Live-streamed into this group at 11am xx
URL:https://iamcharliwall.com/event/ask-me-anything-37/
CATEGORIES:Ask me anything
ATTACH;FMTTYPE=image/jpeg:https://iamcharliwall.com/wp-content/uploads/2022/08/AMA.jpg
END:VEVENT
BEGIN:VEVENT
DTSTART;TZID=Europe/London:20220826T110000
DTEND;TZID=Europe/London:20220826T120000
DTSTAMP:20260420T103832
CREATED:20220801T075134Z
LAST-MODIFIED:20220801T075134Z
UID:4752-1661511600-1661515200@iamcharliwall.com
SUMMARY:August Daytime Coaching Call
DESCRIPTION:Daytime Coaching Call for August.\nZoom https://us02web.zoom.us/j/82657887773
URL:https://iamcharliwall.com/event/august-daytime-coaching-call/
CATEGORIES:Group Calls
ATTACH;FMTTYPE=image/jpeg:https://iamcharliwall.com/wp-content/uploads/2022/07/293030709_10160300262042146_2938597938622776363_n.jpg
END:VEVENT
BEGIN:VEVENT
DTSTART;TZID=Europe/London:20220816T193000
DTEND;TZID=Europe/London:20220816T193000
DTSTAMP:20260420T103832
CREATED:20220801T074850Z
LAST-MODIFIED:20220801T074950Z
UID:4749-1660678200-1660678200@iamcharliwall.com
SUMMARY:August Guest Coach: Chana Studley
DESCRIPTION:I have invited Chana Studley to be our guest this month\, and I will be doing it in the same style as our last month’s coach\, where I will interview her for my podcast live on the ‘Freedom Group’\, then give you ladies the link so you can all join the conversation.\nHere is a little bit about Chana:\nChana Studley recovered from severe PTSD after 3 violent attacks in the UK and spent the next 25 years combining a very successful Academy Award Winning career in Hollywood with coaching and counselling people with trauma\, addictions and relationship problems.\nAfter graduating from ‘The One Thought’ Institute in 2018 she noticed that her 25 years of chronic pain had completely gone and so conducted research to discover if she could reproduce this experience in others.\nFollowing the success of 5 case studies she developed a program called ‘Painless’ and is now helping clients worldwide with all kinds of health issues and working with doctors and clinicians to introduce them to the ‘Three Principles’.\nMost recently she has started working with people with Long Covid and is having great success in helping them get back to their innate health.\nChana is a World Health Organisation Psychological First Responder an international speaker and author.\nShe has Diploma in Psychology and is certified Life Coach with 30 years experience.\nChana’s first book\, ‘The Myth of Low Self Esteem’ – a novel about PTSD\, Hollywood and healing came out in 2019 and her second\, ‘Painless’\, a novel about chronic pain and the Mind-Body connection was published in 2021.\nHer next novel\, ‘Very Well’\, all about hormones\, will be out later this year.\n“‘Painless’ has the potential to awaken fresh hope to the millions of people worldwide who spend the majority of every day enveloped and overwhelmed by their experience of pain. This state when left unabated often results in permanent disability and all too often in suicide. Chana does this with a clarity and certainty that would make Candace Pert Ph.D.\, the late pioneer in the oneness of the body-mind phenomenon\, proud.” –> William F. Pettit Jr\nhttps://www.amazon.com/Painless-novel…/dp/B08PM27MJF\nhttps://www.amazon.com/Myth-Low-Self-Esteem…/dp/1790894573
URL:https://iamcharliwall.com/event/august-guest-coach-chana-studley/
CATEGORIES:Interviews
ATTACH;FMTTYPE=image/jpeg:https://iamcharliwall.com/wp-content/uploads/2022/08/Chana-Studley.jpg
END:VEVENT
BEGIN:VEVENT
DTSTART;VALUE=DATE:20220803
DTEND;VALUE=DATE:20220815
DTSTAMP:20260420T103832
CREATED:20220801T080215Z
LAST-MODIFIED:20220801T080215Z
UID:4757-1659484800-1660521599@iamcharliwall.com
SUMMARY:Charli is away from August 3 - 14
DESCRIPTION:For urgent matters\, kindly send your inquiry to \n\nsupport@iamcharliewall.com
URL:https://iamcharliwall.com/event/charli-is-away-from-august-3-14/
END:VEVENT
BEGIN:VEVENT
DTSTART;TZID=Europe/London:20220802T193000
DTEND;TZID=Europe/London:20220802T203000
DTSTAMP:20260420T103832
CREATED:20220801T074640Z
LAST-MODIFIED:20220801T074640Z
UID:4747-1659468600-1659472200@iamcharliwall.com
SUMMARY:August Eve Group Coaching
DESCRIPTION:August Eve Group Coaching Call.\nPlease join me on Zoom\, and bring one question with you please\, something you would like to get clarity on \nhttps://us02web.zoom.us/j/86455893975\nLove\, Charli x
URL:https://iamcharliwall.com/event/august-eve-group-coaching/
CATEGORIES:Group Calls
ATTACH;FMTTYPE=image/jpeg:https://iamcharliwall.com/wp-content/uploads/2022/07/293030709_10160300262042146_2938597938622776363_n.jpg
END:VEVENT
BEGIN:VEVENT
DTSTART;TZID=Europe/London:20220725T120000
DTEND;TZID=Europe/London:20220725T130000
DTSTAMP:20260420T103832
CREATED:20220710T151753Z
LAST-MODIFIED:20220710T151753Z
UID:4742-1658750400-1658754000@iamcharliwall.com
SUMMARY:ASK ME ANYTHING
DESCRIPTION:This month’s AMA will be live-streamed into this group at midday on the 25th of July.\nLooking forward to it 
URL:https://iamcharliwall.com/event/ask-me-anything-36/
CATEGORIES:Ask me anything
ATTACH;FMTTYPE=image/jpeg:https://iamcharliwall.com/wp-content/uploads/2022/07/293030709_10160300262042146_2938597938622776363_n.jpg
END:VEVENT
BEGIN:VEVENT
DTSTART;TZID=Europe/London:20220718T190000
DTEND;TZID=Europe/London:20220718T200000
DTSTAMP:20260420T103832
CREATED:20220710T151133Z
LAST-MODIFIED:20220710T151133Z
UID:4739-1658170800-1658174400@iamcharliwall.com
SUMMARY:July evening group coaching call
DESCRIPTION:July evening group coaching call with me 7-8pm\n\nhttps://us02web.zoom.us/j/85694418887
URL:https://iamcharliwall.com/event/july-evening-group-coaching-call/
CATEGORIES:Group Calls
ATTACH;FMTTYPE=image/jpeg:https://iamcharliwall.com/wp-content/uploads/2022/07/292759278_10160300249597146_5332592940661985140_n.jpg
END:VEVENT
BEGIN:VEVENT
DTSTART;TZID=Europe/London:20220714T103000
DTEND;TZID=Europe/London:20220714T113000
DTSTAMP:20260420T103832
CREATED:20220710T150459Z
LAST-MODIFIED:20220710T150459Z
UID:4736-1657794600-1657798200@iamcharliwall.com
SUMMARY:Full Moon Daytime Group Coaching
DESCRIPTION:The full moon is on Wednesday the 13th of July\, but because I cannot make that evening\, I will do the full moon group call\, Thursday the 14th at 10.30am.\n\nMuch love\, Charli x
URL:https://iamcharliwall.com/event/full-moon-daytime-group-coaching/
CATEGORIES:Group Calls
ATTACH;FMTTYPE=image/jpeg:https://iamcharliwall.com/wp-content/uploads/2022/07/292803124_10160300245867146_7776881192117558794_n.jpg
END:VEVENT
BEGIN:VEVENT
DTSTART;TZID=Europe/London:20220712T194000
DTEND;TZID=Europe/London:20220712T204000
DTSTAMP:20260420T103832
CREATED:20220710T145218Z
LAST-MODIFIED:20220710T145218Z
UID:4733-1657654800-1657658400@iamcharliwall.com
SUMMARY:Mental Health for Young People with Katherine Chidiac
DESCRIPTION:Hi ladies\, this is something new I am trying for the monthly guest coach. Today we have a wonderful lady called Kat\n\nChidiac\, who is a mum\, creative\, entrepreneur\, author and teacher who loves exploring the fundamental truth of our experience with individuals\, groups and in a variety of educational settings.\n\nShe especially loves working with young people and is the author of her book called\, ‘Now is New’\n\nI will be live-streaming into the main free FB group (The Freedom Group) for my podcast interview\, then following that interview I will invite you ladies to join my on Zoom so you can ask her any questions you may have.\n\nI have put the time as 7.40pm\, which will hopefully be enough time for us to complete the podcast\, so please do join the Zoom link around 7.30-7.40pm\, and I will let you all in when we have finished the podcast interview.\n\nMuch love\, Charli x\n\nhttps://www.nowisnew.co.uk/katherine-chidiac
URL:https://iamcharliwall.com/event/mental-health-for-young-people-with-katherine-chidiac/
CATEGORIES:Interviews
ATTACH;FMTTYPE=image/jpeg:https://iamcharliwall.com/wp-content/uploads/2022/07/Katherine.jpg
END:VEVENT
BEGIN:VEVENT
DTSTART;TZID=Europe/London:20220627T120000
DTEND;TZID=Europe/London:20220627T130000
DTSTAMP:20260420T103832
CREATED:20220601T133948Z
LAST-MODIFIED:20220601T133948Z
UID:4642-1656331200-1656334800@iamcharliwall.com
SUMMARY:EXTRA Ask Me Anything
DESCRIPTION:Extra AMA  Live-streamed into this group at midday
URL:https://iamcharliwall.com/event/extra-ask-me-anything/
CATEGORIES:Ask me anything
ATTACH;FMTTYPE=image/png:https://iamcharliwall.com/wp-content/uploads/2022/03/The-Circle-Group.png
END:VEVENT
BEGIN:VEVENT
DTSTART;TZID=Europe/London:20220624T130000
DTEND;TZID=Europe/London:20220624T140000
DTSTAMP:20260420T103832
CREATED:20220601T133758Z
LAST-MODIFIED:20220601T133758Z
UID:4639-1656075600-1656079200@iamcharliwall.com
SUMMARY:June Guest: Dr Rani Bora
DESCRIPTION:Dr. Rani Bora is a Holistic Psychiatrist\, wellness coach\, and speaker.\nShe is also the author of a self-published book – “How To Turn Stress On Its Head”.\nShe has studied and trained in a number of integrative wellbeing and coaching approaches.\nHer passion is the prevention of mental ill-health and she is a strong advocate for empowering patients\, peer support\, and personal recovery.\nShe brings her coaching expertise and knowledge into her clinical practice.\nRani has written several self-help booklets for patients around well-being including a booklet for Rethink called “Coaching for Recovery”.\nShe helped set up a Recovery College in Somerset and in the past has co-facilitated several courses for the college with people with the lived experience of mental health difficulties.\nShe also has an online membership “The Thriving Professional” for busy professionals wanting to learn about health and wellbeing.\nTogether with her husband\, Suraj\, she also runs the “Mental Wealth Mastery” membership community for professionals\, coaches\, and therapists helping them transform the lives of people with mental health difficulties.\n\nhttps://www.drsranisuraj.com
URL:https://iamcharliwall.com/event/june-guest-dr-rani-bora/
CATEGORIES:Interviews
ATTACH;FMTTYPE=image/jpeg:https://iamcharliwall.com/wp-content/uploads/2022/06/Rani-Bora.jpg
END:VEVENT
BEGIN:VEVENT
DTSTART;TZID=Europe/London:20220617T100000
DTEND;TZID=Europe/London:20220617T233000
DTSTAMP:20260420T103832
CREATED:20220601T014443Z
LAST-MODIFIED:20220601T014443Z
UID:4634-1655460000-1655508600@iamcharliwall.com
SUMMARY:June Daytime Group Coaching Call
DESCRIPTION:June Daytime group coaching call.\nBring any shares or questions you have to our circle\nhttps://us02web.zoom.us/j/87246144828
URL:https://iamcharliwall.com/event/june-daytime-group-coaching-call/
LOCATION:Zoom
CATEGORIES:Group Calls
ATTACH;FMTTYPE=image/jpeg:https://iamcharliwall.com/wp-content/uploads/2022/06/Daytime.jpg
END:VEVENT
BEGIN:VEVENT
DTSTART;TZID=Europe/London:20220614T190000
DTEND;TZID=Europe/London:20220614T203000
DTSTAMP:20260420T103832
CREATED:20220601T014135Z
LAST-MODIFIED:20220601T014135Z
UID:4629-1655233200-1655238600@iamcharliwall.com
SUMMARY:Full Moon Group Coaching Call
DESCRIPTION:Starting with a meditation we will have our June Full Moon group coaching call.\n\n7-8.30pm Via Zoom https://us02web.zoom.us/j/86036554934
URL:https://iamcharliwall.com/event/full-moon-group-coaching-call/
LOCATION:Zoom
CATEGORIES:Group Calls
ATTACH;FMTTYPE=image/jpeg:https://iamcharliwall.com/wp-content/uploads/2022/06/FMGCC.jpg
END:VEVENT
BEGIN:VEVENT
DTSTART;TZID=Europe/London:20220606T120000
DTEND;TZID=Europe/London:20220606T130000
DTSTAMP:20260420T103832
CREATED:20220601T133307Z
LAST-MODIFIED:20220601T133307Z
UID:4637-1654516800-1654520400@iamcharliwall.com
SUMMARY:ASK ME ANYTHING
DESCRIPTION:ASK ME ANYTHING LIVE-STREAMED INTO THIS GROUP AT MIDDAY ON THE 6TH OF JUNE.\n\nPlease let me have any questions prior to the event\, either privately on WhatsApp\, or on this group. xx
URL:https://iamcharliwall.com/event/ask-me-anything-35/
CATEGORIES:Ask me anything
ATTACH;FMTTYPE=image/png:https://iamcharliwall.com/wp-content/uploads/2022/03/The-Circle-Group.png
END:VEVENT
BEGIN:VEVENT
DTSTART;TZID=Europe/London:20220530T120000
DTEND;TZID=Europe/London:20220530T130000
DTSTAMP:20260420T103832
CREATED:20220502T142656Z
LAST-MODIFIED:20220502T143125Z
UID:4618-1653912000-1653915600@iamcharliwall.com
SUMMARY:Ask Me Anything
DESCRIPTION:ASK ME ANYTHING: Live on this group (I will come on live into this group\, no zoom link for this one)\n\n\nPlease send all your questions to me here or privately on WA\n\nLOVE\, CHARLI xxx
URL:https://iamcharliwall.com/event/ask-me-anything-34/
CATEGORIES:Ask me anything
END:VEVENT
BEGIN:VEVENT
DTSTART;TZID=Europe/London:20220520T100000
DTEND;TZID=Europe/London:20220520T110000
DTSTAMP:20260420T103832
CREATED:20220502T124853Z
LAST-MODIFIED:20220502T142317Z
UID:4614-1653040800-1653044400@iamcharliwall.com
SUMMARY:Daytime group coaching call
DESCRIPTION:Daytime group coaching call
URL:https://iamcharliwall.com/event/daytime-group-coaching-call/
CATEGORIES:Group Calls
END:VEVENT
END:VCALENDAR