BEGIN:VCALENDAR
VERSION:2.0
PRODID:-//Charli Wall - ECPv6.15.17//NONSGML v1.0//EN
CALSCALE:GREGORIAN
METHOD:PUBLISH
X-WR-CALNAME:Charli Wall
X-ORIGINAL-URL:https://iamcharliwall.com
X-WR-CALDESC:Events for Charli Wall
REFRESH-INTERVAL;VALUE=DURATION:PT1H
X-Robots-Tag:noindex
X-PUBLISHED-TTL:PT1H
BEGIN:VTIMEZONE
TZID:Europe/London
BEGIN:DAYLIGHT
TZOFFSETFROM:+0000
TZOFFSETTO:+0100
TZNAME:BST
DTSTART:20220327T010000
END:DAYLIGHT
BEGIN:STANDARD
TZOFFSETFROM:+0100
TZOFFSETTO:+0000
TZNAME:GMT
DTSTART:20221030T010000
END:STANDARD
BEGIN:DAYLIGHT
TZOFFSETFROM:+0000
TZOFFSETTO:+0100
TZNAME:BST
DTSTART:20230326T010000
END:DAYLIGHT
BEGIN:STANDARD
TZOFFSETFROM:+0100
TZOFFSETTO:+0000
TZNAME:GMT
DTSTART:20231029T010000
END:STANDARD
BEGIN:DAYLIGHT
TZOFFSETFROM:+0000
TZOFFSETTO:+0100
TZNAME:BST
DTSTART:20240331T010000
END:DAYLIGHT
BEGIN:STANDARD
TZOFFSETFROM:+0100
TZOFFSETTO:+0000
TZNAME:GMT
DTSTART:20241027T010000
END:STANDARD
END:VTIMEZONE
BEGIN:VEVENT
DTSTART;TZID=Europe/London:20231115T130000
DTEND;TZID=Europe/London:20231115T140000
DTSTAMP:20260420T031552
CREATED:20231102T080357Z
LAST-MODIFIED:20231102T080420Z
UID:5404-1700053200-1700056800@iamcharliwall.com
SUMMARY:November daytime coaching call
DESCRIPTION:https://us02web.zoom.us/j/89691326840
URL:https://iamcharliwall.com/event/november-daytime-coaching-call/
LOCATION:Zoom
CATEGORIES:Group Calls
ATTACH;FMTTYPE=image/jpeg:https://iamcharliwall.com/wp-content/uploads/2020/10/Possibility-Chats-.jpg
END:VEVENT
BEGIN:VEVENT
DTSTART;TZID=Europe/London:20231108T190000
DTEND;TZID=Europe/London:20231108T200000
DTSTAMP:20260420T031552
CREATED:20231102T075623Z
LAST-MODIFIED:20231102T080617Z
UID:5402-1699470000-1699473600@iamcharliwall.com
SUMMARY:November Evening group coaching call
DESCRIPTION:https://us02web.zoom.us/j/86420716058
URL:https://iamcharliwall.com/event/november-evening-group-coaching-call-2/
LOCATION:Zoom
CATEGORIES:Group Calls
ATTACH;FMTTYPE=image/jpeg:https://iamcharliwall.com/wp-content/uploads/2020/10/Possibility-Chats-.jpg
END:VEVENT
BEGIN:VEVENT
DTSTART;TZID=Europe/London:20231030T190000
DTEND;TZID=Europe/London:20231030T200000
DTSTAMP:20260420T031552
CREATED:20231002T053820Z
LAST-MODIFIED:20231002T053820Z
UID:5367-1698692400-1698696000@iamcharliwall.com
SUMMARY:SHADOW HEALING - Wisdom is held in the dark
DESCRIPTION:Join Zoom Meeting\nhttps://us02web.zoom.us/j/81580797478\nMeeting ID: 815 8079 7478
URL:https://iamcharliwall.com/event/shadow-healing-wisdom-is-held-in-the-dark/
LOCATION:Zoom
CATEGORIES:Monthly Theme
ATTACH;FMTTYPE=image/jpeg:https://iamcharliwall.com/wp-content/uploads/2022/07/293030709_10160300262042146_2938597938622776363_n.jpg
END:VEVENT
BEGIN:VEVENT
DTSTART;TZID=Europe/London:20231026T190000
DTEND;TZID=Europe/London:20231026T200000
DTSTAMP:20260420T031552
CREATED:20231002T053406Z
LAST-MODIFIED:20231002T053439Z
UID:5365-1698346800-1698350400@iamcharliwall.com
SUMMARY:October Evening Group Coaching Call
DESCRIPTION:Join Zoom Meeting\nhttps://us02web.zoom.us/j/85371752442\nMeeting ID: 853 7175 2442
URL:https://iamcharliwall.com/event/october-evening-group-coaching-call/
LOCATION:Zoom
CATEGORIES:Group Calls
ATTACH;FMTTYPE=image/jpeg:https://iamcharliwall.com/wp-content/uploads/2022/07/293030709_10160300262042146_2938597938622776363_n.jpg
END:VEVENT
BEGIN:VEVENT
DTSTART;VALUE=DATE:20231023
DTEND;VALUE=DATE:20231024
DTSTAMP:20260420T031552
CREATED:20231002T054010Z
LAST-MODIFIED:20231002T054010Z
UID:5371-1698019200-1698105599@iamcharliwall.com
SUMMARY:Charli is Away
DESCRIPTION:
URL:https://iamcharliwall.com/event/charli-is-away-6/
END:VEVENT
BEGIN:VEVENT
DTSTART;TZID=Europe/London:20231012T130000
DTEND;TZID=Europe/London:20231012T140000
DTSTAMP:20260420T031552
CREATED:20231002T053157Z
LAST-MODIFIED:20231002T053229Z
UID:5363-1697115600-1697119200@iamcharliwall.com
SUMMARY:October Daytime Coaching Call
DESCRIPTION:https://us02web.zoom.us/j/89397624861
URL:https://iamcharliwall.com/event/october-daytime-coaching-call-2/
LOCATION:Zoom
CATEGORIES:Group Calls
ATTACH;FMTTYPE=image/jpeg:https://iamcharliwall.com/wp-content/uploads/2022/07/293030709_10160300262042146_2938597938622776363_n.jpg
END:VEVENT
BEGIN:VEVENT
DTSTART;TZID=Europe/London:20231004T113000
DTEND;TZID=Europe/London:20231004T123000
DTSTAMP:20260420T031552
CREATED:20231002T052950Z
LAST-MODIFIED:20231002T052950Z
UID:5360-1696419000-1696422600@iamcharliwall.com
SUMMARY:Ask Me Anything
DESCRIPTION:Hello ladies\, October ‘Ask Me Anything’ – Please send me all your questions prior to 11.30am on Wed 4th October.
URL:https://iamcharliwall.com/event/ask-me-anything-49/
LOCATION:FB Circle Group
CATEGORIES:Ask me anything
ATTACH;FMTTYPE=image/jpeg:https://iamcharliwall.com/wp-content/uploads/2022/08/AMA.jpg
END:VEVENT
BEGIN:VEVENT
DTSTART;VALUE=DATE:20231002
DTEND;VALUE=DATE:20231003
DTSTAMP:20260420T031552
CREATED:20231002T053937Z
LAST-MODIFIED:20231002T053937Z
UID:5369-1696204800-1696291199@iamcharliwall.com
SUMMARY:Charli is Away
DESCRIPTION:
URL:https://iamcharliwall.com/event/charli-is-away-5/
END:VEVENT
BEGIN:VEVENT
DTSTART;TZID=Europe/London:20230925T190000
DTEND;TZID=Europe/London:20230925T200000
DTSTAMP:20260420T031552
CREATED:20230904T035842Z
LAST-MODIFIED:20230904T035842Z
UID:5260-1695668400-1695672000@iamcharliwall.com
SUMMARY:OVERCOMING IMPOSTER SYSNDROME
DESCRIPTION:ZOOM LINK:\nhttps://us02web.zoom.us/j/87184487396
URL:https://iamcharliwall.com/event/overcoming-imposter-sysndrome/
LOCATION:Zoom
CATEGORIES:Monthly Theme
ATTACH;FMTTYPE=image/jpeg:https://iamcharliwall.com/wp-content/uploads/2022/07/293030709_10160300262042146_2938597938622776363_n.jpg
END:VEVENT
BEGIN:VEVENT
DTSTART;TZID=Europe/London:20230918T190000
DTEND;TZID=Europe/London:20230918T200000
DTSTAMP:20260420T031552
CREATED:20230904T035038Z
LAST-MODIFIED:20230904T035038Z
UID:5258-1695063600-1695067200@iamcharliwall.com
SUMMARY:September Evening Group Coaching Call
DESCRIPTION:ZOON LINK:\nhttps://us02web.zoom.us/j/85363018764
URL:https://iamcharliwall.com/event/september-evening-group-coaching-call/
LOCATION:Zoom
CATEGORIES:Group Calls
ATTACH;FMTTYPE=image/jpeg:https://iamcharliwall.com/wp-content/uploads/2022/07/293030709_10160300262042146_2938597938622776363_n.jpg
END:VEVENT
BEGIN:VEVENT
DTSTART;TZID=Europe/London:20230915T113000
DTEND;TZID=Europe/London:20230915T123000
DTSTAMP:20260420T031552
CREATED:20230904T034012Z
LAST-MODIFIED:20230904T034012Z
UID:5256-1694777400-1694781000@iamcharliwall.com
SUMMARY:September Daytime Coaching Call
DESCRIPTION:ZOOM LINK: \nhttps://us02web.zoom.us/j/83373253522
URL:https://iamcharliwall.com/event/september-daytime-coaching-call-3/
LOCATION:Zoom
CATEGORIES:Group Calls
ATTACH;FMTTYPE=image/jpeg:https://iamcharliwall.com/wp-content/uploads/2022/07/293030709_10160300262042146_2938597938622776363_n.jpg
END:VEVENT
BEGIN:VEVENT
DTSTART;TZID=Europe/London:20230906T111500
DTEND;TZID=Europe/London:20230906T121500
DTSTAMP:20260420T031552
CREATED:20230904T033500Z
LAST-MODIFIED:20230904T033528Z
UID:5253-1693998900-1694002500@iamcharliwall.com
SUMMARY:ASK ME ANYTHING: SEPTEMBER
DESCRIPTION:Hi ladies\, this week we have our ‘ASK ME ANYTHING’ please send all your questions to me before Wed the 6th at 11.15am\nLove\, Charli x
URL:https://iamcharliwall.com/event/ask-me-anything-september/
CATEGORIES:Ask me anything
ATTACH;FMTTYPE=image/jpeg:https://iamcharliwall.com/wp-content/uploads/2022/08/AMA.jpg
END:VEVENT
BEGIN:VEVENT
DTSTART;TZID=Europe/London:20230829T200000
DTEND;TZID=Europe/London:20230829T210000
DTSTAMP:20260420T031552
CREATED:20230802T090749Z
LAST-MODIFIED:20230828T061558Z
UID:5164-1693339200-1693342800@iamcharliwall.com
SUMMARY:August Theme: INSIGHTS ON BRAIN & NEUROSCIENCE
DESCRIPTION:
URL:https://iamcharliwall.com/event/august-theme-insights-on-brain-neuroscience/
LOCATION:Zoom
CATEGORIES:Monthly Theme
ATTACH;FMTTYPE=image/png:https://iamcharliwall.com/wp-content/uploads/2023/08/August-Theme.png
END:VEVENT
BEGIN:VEVENT
DTSTART;TZID=Europe/London:20230821T190000
DTEND;TZID=Europe/London:20230821T203000
DTSTAMP:20260420T031552
CREATED:20230802T090502Z
LAST-MODIFIED:20230802T090502Z
UID:5162-1692644400-1692649800@iamcharliwall.com
SUMMARY:August Evening  Coaching Call
DESCRIPTION:
URL:https://iamcharliwall.com/event/august-evening-coaching-call/
LOCATION:Zoom
CATEGORIES:Group Calls
ATTACH;FMTTYPE=image/jpeg:https://iamcharliwall.com/wp-content/uploads/2022/07/292759278_10160300249597146_5332592940661985140_n.jpg
END:VEVENT
BEGIN:VEVENT
DTSTART;TZID=Europe/London:20230818T110000
DTEND;TZID=Europe/London:20230818T120000
DTSTAMP:20260420T031552
CREATED:20230802T085936Z
LAST-MODIFIED:20230802T085936Z
UID:5160-1692356400-1692360000@iamcharliwall.com
SUMMARY:August Daytime Coaching
DESCRIPTION:
URL:https://iamcharliwall.com/event/august-daytime-coaching/
LOCATION:Zoom
CATEGORIES:Group Calls
ATTACH;FMTTYPE=image/jpeg:https://iamcharliwall.com/wp-content/uploads/2022/07/293030709_10160300262042146_2938597938622776363_n.jpg
END:VEVENT
BEGIN:VEVENT
DTSTART;TZID=Europe/London:20230807T190000
DTEND;TZID=Europe/London:20230807T200000
DTSTAMP:20260420T031552
CREATED:20230704T050334Z
LAST-MODIFIED:20230802T091542Z
UID:5140-1691434800-1691438400@iamcharliwall.com
SUMMARY:July Theme: THE WISDOM OF YOUR CYCLE
DESCRIPTION:July Theme: THE WISDOM OF YOUR CYCLE\nhttps://us02web.zoom.us/j/89460239165
URL:https://iamcharliwall.com/event/july-theme-the-wisdom-of-your-cycle/
LOCATION:Zoom
CATEGORIES:Masterclass
ATTACH;FMTTYPE=image/png:https://iamcharliwall.com/wp-content/uploads/2023/07/JULY-THEME-v2.png
END:VEVENT
BEGIN:VEVENT
DTSTART;TZID=Europe/London:20230804T110000
DTEND;TZID=Europe/London:20230804T120000
DTSTAMP:20260420T031552
CREATED:20230802T084602Z
LAST-MODIFIED:20230802T090838Z
UID:5155-1691146800-1691150400@iamcharliwall.com
SUMMARY:ASK ME ANYTHING
DESCRIPTION:This Friday is your ASK ME ANYTHING slot \nPlease send me all your questions prior to Friday at 11am xx
URL:https://iamcharliwall.com/event/ask-me-anything-48/
LOCATION:FB Circle Group
CATEGORIES:Ask me anything
ATTACH;FMTTYPE=image/jpeg:https://iamcharliwall.com/wp-content/uploads/2022/08/AMA.jpg
END:VEVENT
BEGIN:VEVENT
DTSTART;TZID=Europe/London:20230728T110000
DTEND;TZID=Europe/London:20230728T120000
DTSTAMP:20260420T031552
CREATED:20230704T050119Z
LAST-MODIFIED:20230704T050119Z
UID:5138-1690542000-1690545600@iamcharliwall.com
SUMMARY:July daytime coaching call
DESCRIPTION:Join us here: https://us02web.zoom.us/j/88598377283
URL:https://iamcharliwall.com/event/july-daytime-coaching-call/
CATEGORIES:Group Calls
END:VEVENT
BEGIN:VEVENT
DTSTART;VALUE=DATE:20230718
DTEND;VALUE=DATE:20230726
DTSTAMP:20260420T031552
CREATED:20230704T051437Z
LAST-MODIFIED:20230704T051437Z
UID:5142-1689638400-1690329599@iamcharliwall.com
SUMMARY:Charli is Away
DESCRIPTION:
URL:https://iamcharliwall.com/event/charli-is-away-4/
END:VEVENT
BEGIN:VEVENT
DTSTART;TZID=Europe/London:20230710T190000
DTEND;TZID=Europe/London:20230710T200000
DTSTAMP:20260420T031552
CREATED:20230704T045629Z
LAST-MODIFIED:20230704T045629Z
UID:5136-1689015600-1689019200@iamcharliwall.com
SUMMARY:July evening group coaching call
DESCRIPTION:Join Zoom Meeting\nhttps://us02web.zoom.us/j/81764989402\nMeeting ID: 817 6498 9402
URL:https://iamcharliwall.com/event/july-evening-group-coaching-call-2/
CATEGORIES:Group Calls
ATTACH;FMTTYPE=image/jpeg:https://iamcharliwall.com/wp-content/uploads/2022/07/293030709_10160300262042146_2938597938622776363_n.jpg
END:VEVENT
BEGIN:VEVENT
DTSTART;TZID=Europe/London:20230707T133000
DTEND;TZID=Europe/London:20230707T143000
DTSTAMP:20260420T031552
CREATED:20230704T045435Z
LAST-MODIFIED:20230704T045435Z
UID:5134-1688736600-1688740200@iamcharliwall.com
SUMMARY:ASK ME ANYTHING
DESCRIPTION:Hello ladies\, this month’s AMA will come live into this group on Friday at 1.30pm\nPlease send me all your questions prior to this x
URL:https://iamcharliwall.com/event/ask-me-anything-47/
CATEGORIES:Ask me anything
ATTACH;FMTTYPE=image/jpeg:https://iamcharliwall.com/wp-content/uploads/2022/08/AMA.jpg
END:VEVENT
BEGIN:VEVENT
DTSTART;TZID=Europe/London:20230626T193000
DTEND;TZID=Europe/London:20230626T203000
DTSTAMP:20260420T031552
CREATED:20230605T151608Z
LAST-MODIFIED:20230609T044449Z
UID:5127-1687807800-1687811400@iamcharliwall.com
SUMMARY:June's theme: SAYING NO
DESCRIPTION:This month’s theme is SAYING NO!\nWe will meet at the end of the month on Zoom.\nhttps://us02web.zoom.us/j/89190798542
URL:https://iamcharliwall.com/event/junes-theme-saying-no/
CATEGORIES:Monthly Theme
ATTACH;FMTTYPE=image/jpeg:https://iamcharliwall.com/wp-content/uploads/2023/06/saying-no.jpg
END:VEVENT
BEGIN:VEVENT
DTSTART;TZID=Europe/London:20230619T193000
DTEND;TZID=Europe/London:20230619T203000
DTSTAMP:20260420T031552
CREATED:20230605T151445Z
LAST-MODIFIED:20230605T151445Z
UID:5125-1687203000-1687206600@iamcharliwall.com
SUMMARY:June Evening group coaching call
DESCRIPTION:https://us02web.zoom.us/j/83269854675
URL:https://iamcharliwall.com/event/june-evening-group-coaching-call/
CATEGORIES:Group Calls
ATTACH;FMTTYPE=image/jpeg:https://iamcharliwall.com/wp-content/uploads/2022/07/292759278_10160300249597146_5332592940661985140_n.jpg
END:VEVENT
BEGIN:VEVENT
DTSTART;TZID=Europe/London:20230614T101500
DTEND;TZID=Europe/London:20230614T231500
DTSTAMP:20260420T031552
CREATED:20230605T143355Z
LAST-MODIFIED:20230605T143355Z
UID:5122-1686737700-1686784500@iamcharliwall.com
SUMMARY:Ask Me Anything
DESCRIPTION:ASK ME ANYTHING: Live in the FB group. Please send me all your questions prior to the event\n\n\nOnline
URL:https://iamcharliwall.com/event/ask-me-anything-46/
CATEGORIES:Ask me anything
ATTACH;FMTTYPE=image/jpeg:https://iamcharliwall.com/wp-content/uploads/2022/08/AMA.jpg
END:VEVENT
BEGIN:VEVENT
DTSTART;TZID=Europe/London:20230609T110000
DTEND;TZID=Europe/London:20230609T120000
DTSTAMP:20260420T031552
CREATED:20230605T142635Z
LAST-MODIFIED:20230605T142635Z
UID:5120-1686308400-1686312000@iamcharliwall.com
SUMMARY:June daytime coaching call
DESCRIPTION:https://us02web.zoom.us/j/81646330003
URL:https://iamcharliwall.com/event/june-daytime-coaching-call/
CATEGORIES:Group Calls
ATTACH;FMTTYPE=image/jpeg:https://iamcharliwall.com/wp-content/uploads/2022/07/292759278_10160300249597146_5332592940661985140_n.jpg
END:VEVENT
BEGIN:VEVENT
DTSTART;TZID=Europe/London:20230530T193000
DTEND;TZID=Europe/London:20230530T203000
DTSTAMP:20260420T031552
CREATED:20230502T124423Z
LAST-MODIFIED:20230504T060645Z
UID:5107-1685475000-1685478600@iamcharliwall.com
SUMMARY:May theme: PARENTING FROM THE HEART
DESCRIPTION:This 𝗺𝗼𝗻𝘁𝗵’𝘀 𝘁𝗵𝗲𝗺𝗲 𝗶𝗻 this 𝗖𝗶𝗿𝗰𝗹𝗲 ⭕ 𝗖𝗼𝗺𝗺𝘂𝗻𝗶𝘁𝘆 𝗶𝘀: 𝗣𝗔𝗥𝗘𝗡𝗧𝗜𝗡𝗚 𝗙𝗥𝗢𝗠 𝗧𝗛𝗘 𝗛𝗘𝗔𝗥𝗧 ♥⁣ \nSome questions for you to reflect on: \n⭕ what issues (if any) do you struggle with\, with regards to parenting? ⁣\n⁣\n⭕ Do you have any questions around parenting? ⁣\n⁣\n⭕ Do you struggle with guilt or shame around your parenting? ⁣\n⁣\n⭕ How were YOU parented? ⁣ \n⭕ What came up for you as a child? \n⭕ Who were your role models? \n⭕ Do you struggle to lead your children? \n⭕ Do you ever get triggered by your children? \n⭕ Where do you feel you get it right\, or where your own parents got it right?\n⁣\n⭕ Do you carry any resentment towards your children? Your parents? (This is an unspoken but important topic) \n⭕ What was/ is your relationship like with your mother/ father? \nGo gently with these enquiries. Feel free to share on the group/ WhatsApp or on a separate post xx \nLink: https://us02web.zoom.us/j/83709478747
URL:https://iamcharliwall.com/event/may-theme-parenting-from-the-heart/
CATEGORIES:Monthly Theme
ATTACH;FMTTYPE=image/jpeg:https://iamcharliwall.com/wp-content/uploads/2022/07/293030709_10160300262042146_2938597938622776363_n.jpg
END:VEVENT
BEGIN:VEVENT
DTSTART;TZID=Europe/London:20230526T100000
DTEND;TZID=Europe/London:20230526T230000
DTSTAMP:20260420T031552
CREATED:20230502T124051Z
LAST-MODIFIED:20230502T124051Z
UID:5105-1685095200-1685142000@iamcharliwall.com
SUMMARY:May daytime group coaching call
DESCRIPTION:May daytime group coaching call\nhttps://us02web.zoom.us/j/88603749049
URL:https://iamcharliwall.com/event/may-daytime-group-coaching-call/
CATEGORIES:Group Calls
ATTACH;FMTTYPE=image/jpeg:https://iamcharliwall.com/wp-content/uploads/2022/07/293030709_10160300262042146_2938597938622776363_n.jpg
END:VEVENT
BEGIN:VEVENT
DTSTART;TZID=Europe/London:20230515T193000
DTEND;TZID=Europe/London:20230515T203000
DTSTAMP:20260420T031552
CREATED:20230502T123721Z
LAST-MODIFIED:20230502T123721Z
UID:5103-1684179000-1684182600@iamcharliwall.com
SUMMARY:May evening group coaching call
DESCRIPTION:May evening group coaching call 7.30pm (15th)\nhttps://us02web.zoom.us/j/89084303237
URL:https://iamcharliwall.com/event/may-evening-group-coaching-call-2/
CATEGORIES:Group Calls
ATTACH;FMTTYPE=image/jpeg:https://iamcharliwall.com/wp-content/uploads/2022/07/293030709_10160300262042146_2938597938622776363_n.jpg
END:VEVENT
BEGIN:VEVENT
DTSTART;VALUE=DATE:20230507
DTEND;VALUE=DATE:20230515
DTSTAMP:20260420T031552
CREATED:20230502T125600Z
LAST-MODIFIED:20230502T125600Z
UID:5109-1683417600-1684108799@iamcharliwall.com
SUMMARY:Charli is Away
DESCRIPTION:
URL:https://iamcharliwall.com/event/charli-is-away-3/
END:VEVENT
BEGIN:VEVENT
DTSTART;TZID=Europe/London:20230503T141500
DTEND;TZID=Europe/London:20230503T151500
DTSTAMP:20260420T031552
CREATED:20230502T101737Z
LAST-MODIFIED:20230502T101737Z
UID:5101-1683123300-1683126900@iamcharliwall.com
SUMMARY:Ask Me Anything
DESCRIPTION:This month’s Ask Me Anything will be on Wednesday\, 3rd May at 2.15pm UK. \nI will come live into this FB Circle group. \nPlease send me all questions PRIOR to the live\, via WhatsApp PM\, the FB thread\, or message me. \nLet me know if you want to stay anonymous. \nHope to see you there x
URL:https://iamcharliwall.com/event/ask-me-anything-45/
CATEGORIES:Ask me anything
ATTACH;FMTTYPE=image/jpeg:https://iamcharliwall.com/wp-content/uploads/2022/08/AMA.jpg
END:VEVENT
END:VCALENDAR